BEGIN:VCALENDAR
VERSION:2.0
PRODID:-// - ECPv6.15.20//NONSGML v1.0//EN
CALSCALE:GREGORIAN
METHOD:PUBLISH
X-ORIGINAL-URL:https://delawareads.com
X-WR-CALDESC:Events for 
REFRESH-INTERVAL;VALUE=DURATION:PT1H
X-Robots-Tag:noindex
X-PUBLISHED-TTL:PT1H
BEGIN:VTIMEZONE
TZID:America/New_York
BEGIN:DAYLIGHT
TZOFFSETFROM:-0500
TZOFFSETTO:-0400
TZNAME:EDT
DTSTART:20250309T070000
END:DAYLIGHT
BEGIN:STANDARD
TZOFFSETFROM:-0400
TZOFFSETTO:-0500
TZNAME:EST
DTSTART:20251102T060000
END:STANDARD
BEGIN:DAYLIGHT
TZOFFSETFROM:-0500
TZOFFSETTO:-0400
TZNAME:EDT
DTSTART:20260308T070000
END:DAYLIGHT
BEGIN:STANDARD
TZOFFSETFROM:-0400
TZOFFSETTO:-0500
TZNAME:EST
DTSTART:20261101T060000
END:STANDARD
BEGIN:DAYLIGHT
TZOFFSETFROM:-0500
TZOFFSETTO:-0400
TZNAME:EDT
DTSTART:20270314T070000
END:DAYLIGHT
BEGIN:STANDARD
TZOFFSETFROM:-0400
TZOFFSETTO:-0500
TZNAME:EST
DTSTART:20271107T060000
END:STANDARD
END:VTIMEZONE
BEGIN:VEVENT
DTSTART;TZID=America/New_York:20260422T090000
DTEND;TZID=America/New_York:20260422T160000
DTSTAMP:20260422T015814
CREATED:20260421T023451Z
LAST-MODIFIED:20260421T023451Z
UID:10007966-1776848400-1776873600@delawareads.com
SUMMARY:Earth Day at Auburn Valley
DESCRIPTION:Celebrate Earth Day at Auburn Valley State Park with a full day of guided hikes or self-guided activities. Start your visit at our park office to pick up an activity schedule and your Earth Day packet. Free!
URL:https://delawareads.com/event/earth-day-at-auburn-valley/
LOCATION:Auburn Valley State Park
CATEGORIES:Hiking & Walking Trails,Museum,Park
ATTACH;FMTTYPE=image/jpeg:https://delawareads.com/wp-content/uploads/2026/02/Auburn.jpg
END:VEVENT
BEGIN:VEVENT
DTSTART;TZID=America/New_York:20260422T100000
DTEND;TZID=America/New_York:20260422T110000
DTSTAMP:20260422T015814
CREATED:20260421T020410Z
LAST-MODIFIED:20260421T020410Z
UID:10007940-1776852000-1776855600@delawareads.com
SUMMARY:Earth Day: Dunes or Defense at Cape Henlopen
DESCRIPTION:Take a guided hike to the top of the Great Dune in celebration of Earth Day and Delaware State Parks’ 75th birthday! Learn how it contributed to coastal defense and how students defended the dune on the first Earth Day in 1970\, helping to create the Cape Henlopen State Park we love today! Meet at the Orientation Building by the main Fort Miles Museum parking lot. Recommended for ages 7+. Free\, no registration required.
URL:https://delawareads.com/event/earth-day-dunes-or-defense-at-cape-henlopen/
LOCATION:Cape Henlopen State Park\, 15099 Cape Henlopen Dr\, Lewes\, DE\, 19958\, United States
CATEGORIES:Camping,Community,Fishing,Hiking & Walking Trails,Park
ATTACH;FMTTYPE=image/jpeg:https://delawareads.com/wp-content/uploads/2026/03/Cape-Henlopen-1.jpg
END:VEVENT
BEGIN:VEVENT
DTSTART;TZID=America/New_York:20260422T100000
DTEND;TZID=America/New_York:20260424T130000
DTSTAMP:20260422T015814
CREATED:20260421T015753Z
LAST-MODIFIED:20260421T015753Z
UID:10007935-1776852000-1777035600@delawareads.com
SUMMARY:A Capitol Experience at First State Heritage Park
DESCRIPTION:Tour Delaware’s current functioning capital building with a First State Heritage Park tour guide! Walk through the halls where Delaware laws are made and learn about the history of the First State.
URL:https://delawareads.com/event/a-capitol-experience-at-first-state-heritage-park-10/
LOCATION:First State Heritage Park\, 43 The Green\, Dover\, DE\, 1902\, United States
CATEGORIES:Hiking & Walking Trails,History,Park
ATTACH;FMTTYPE=image/jpeg:https://delawareads.com/wp-content/uploads/2026/03/First-State-Heritage-Park.jpg
END:VEVENT
BEGIN:VEVENT
DTSTART;TZID=America/New_York:20260422T120000
DTEND;TZID=America/New_York:20260422T140000
DTSTAMP:20260422T015814
CREATED:20260421T023010Z
LAST-MODIFIED:20260421T023010Z
UID:10007962-1776859200-1776866400@delawareads.com
SUMMARY:Earth Day Habitat Hike at Alapocas Run
DESCRIPTION:Did you know that Brandywine Creek State Park is home to 4 distinct habitats? Join the park naturalists on a hike to visit all four of our unique habitats the meadow\, forest\, creek\, and the freshwater marsh all on one hike! On this guided hike\, learn about the natural history of the park as we observe each of these spaces ourselves. This trek will be muddy and will have uneven terrain. Register by calling (302) 655-5740 or email DNREC_brandywinecreekprograms@delaware.gov. Free with paid park entrance fee.
URL:https://delawareads.com/event/earth-day-habitat-hike-at-alapocas-run/
LOCATION:Alapocas Run State Park\, 1914 W. Park Drive\, Wilmington\, DE\, 19802\, United States
CATEGORIES:Community,Hiking & Walking Trails,Park
ATTACH;FMTTYPE=image/png:https://delawareads.com/wp-content/uploads/2026/02/Alapocas.png
END:VEVENT
BEGIN:VEVENT
DTSTART;TZID=America/New_York:20260422T140000
DTEND;TZID=America/New_York:20260424T150000
DTSTAMP:20260422T015815
CREATED:20260420T225941Z
LAST-MODIFIED:20260420T225941Z
UID:10007904-1776866400-1777042800@delawareads.com
SUMMARY:Stories of the Green Walking Tour at First State Heritage Park
DESCRIPTION:The Dover Green has been the heart of this capital since its 18th-century founding. Led by a historic interpreter\, experience the stories of the sites and people that have defined the First State experience.
URL:https://delawareads.com/event/stories-of-the-green-walking-tour-at-first-state-heritage-park-7/
LOCATION:First State Heritage Park\, 43 The Green\, Dover\, DE\, 1902\, United States
CATEGORIES:Hiking & Walking Trails,History,Park
ATTACH;FMTTYPE=image/jpeg:https://delawareads.com/wp-content/uploads/2026/03/First-State-Heritage-Park.jpg
END:VEVENT
BEGIN:VEVENT
DTSTART;TZID=America/New_York:20260422T170000
DTEND;TZID=America/New_York:20260422T180000
DTSTAMP:20260422T015815
CREATED:20260421T024100Z
LAST-MODIFIED:20260421T024100Z
UID:10007971-1776877200-1776880800@delawareads.com
SUMMARY:Earth Day Evening Hike at Cape Henlopen
DESCRIPTION:Celebrate Earth Day with a guided hike exploring the parkÂs flora and fauna before the sun sets. For ages 7+ with an adult. Pre-register required by calling (302) 645-6852.FREE with park entrance fee.
URL:https://delawareads.com/event/earth-day-evening-hike-at-cape-henlopen/
LOCATION:Cape Henlopen State Park\, 15099 Cape Henlopen Dr\, Lewes\, DE\, 19958\, United States
CATEGORIES:Camping,Community,Fishing,Hiking & Walking Trails,Park
ATTACH;FMTTYPE=image/jpeg:https://delawareads.com/wp-content/uploads/2026/03/Cape-Henlopen-1.jpg
END:VEVENT
BEGIN:VEVENT
DTSTART;TZID=America/New_York:20260422T180000
DTEND;TZID=America/New_York:20260422T190000
DTSTAMP:20260422T015815
CREATED:20260421T021638Z
LAST-MODIFIED:20260421T021638Z
UID:10007951-1776880800-1776884400@delawareads.com
SUMMARY:Earth Day Birthday at Fox Point
DESCRIPTION:On April 22nd\, exactly 30 years ago\, Fox Point was dedicated as a Delaware State Park! Come celebrate Earth Day as we explore the history and nature of Fox Point State Park. Learn about how Fox Point came to be and see what this little hidden gem of a park has to offer. Walk-ups welcome\, no registration required. Meet in the Main Parking Lot. Free!
URL:https://delawareads.com/event/earth-day-birthday-at-fox-point/
LOCATION:Fox Point State Park\, Lighthouse Rd\, Wilmington\, DE\, 19809\, United States
CATEGORIES:Hiking & Walking Trails,Park
ATTACH;FMTTYPE=image/png:https://delawareads.com/wp-content/uploads/2026/02/Fox-Point.png
END:VEVENT
END:VCALENDAR