BEGIN:VCALENDAR
VERSION:2.0
PRODID:-// - ECPv6.15.20//NONSGML v1.0//EN
CALSCALE:GREGORIAN
METHOD:PUBLISH
X-ORIGINAL-URL:https://delawareads.com
X-WR-CALDESC:Events for 
REFRESH-INTERVAL;VALUE=DURATION:PT1H
X-Robots-Tag:noindex
X-PUBLISHED-TTL:PT1H
BEGIN:VTIMEZONE
TZID:America/New_York
BEGIN:DAYLIGHT
TZOFFSETFROM:-0500
TZOFFSETTO:-0400
TZNAME:EDT
DTSTART:20250309T070000
END:DAYLIGHT
BEGIN:STANDARD
TZOFFSETFROM:-0400
TZOFFSETTO:-0500
TZNAME:EST
DTSTART:20251102T060000
END:STANDARD
BEGIN:DAYLIGHT
TZOFFSETFROM:-0500
TZOFFSETTO:-0400
TZNAME:EDT
DTSTART:20260308T070000
END:DAYLIGHT
BEGIN:STANDARD
TZOFFSETFROM:-0400
TZOFFSETTO:-0500
TZNAME:EST
DTSTART:20261101T060000
END:STANDARD
BEGIN:DAYLIGHT
TZOFFSETFROM:-0500
TZOFFSETTO:-0400
TZNAME:EDT
DTSTART:20270314T070000
END:DAYLIGHT
BEGIN:STANDARD
TZOFFSETFROM:-0400
TZOFFSETTO:-0500
TZNAME:EST
DTSTART:20271107T060000
END:STANDARD
END:VTIMEZONE
BEGIN:VEVENT
DTSTART;TZID=America/New_York:20260424T090000
DTEND;TZID=America/New_York:20260424T120000
DTSTAMP:20260424T013904
CREATED:20260420T224646Z
LAST-MODIFIED:20260420T224646Z
UID:10007893-1777021200-1777032000@delawareads.com
SUMMARY:Intro to Surf Fishing at Delaware Seashore
DESCRIPTION:Have you always wanted to try surf fishing but werenÂt sure how to get started? If so\, this program is for you! Everything from fish identification to proper casting techniques will be covered in this three-hour program. Rods\, reels\, and bait are provided. Ages 12 and up. Those under 16 must be accompanied by a paying adult. Online registration ends 24 hours prior to program. After that\, please call 302-227-6991. $25 per person
URL:https://delawareads.com/event/intro-to-surf-fishing-at-delaware-seashore-3/
LOCATION:Delaware Seashore State Park\, 39415 Inlet Rd\, Rehoboth Beach\, DE\, 19971\, United States
CATEGORIES:Boating,Camping,Fishing,Hiking & Walking Trails,Park
ATTACH;FMTTYPE=image/jpeg:https://delawareads.com/wp-content/uploads/2026/03/Delaware-Seashore-State-Park.jpg
END:VEVENT
BEGIN:VEVENT
DTSTART;TZID=America/New_York:20260424T150000
DTEND;TZID=America/New_York:20260424T160000
DTSTAMP:20260424T013904
CREATED:20260421T020549Z
LAST-MODIFIED:20260421T020549Z
UID:10007941-1777042800-1777046400@delawareads.com
SUMMARY:Mansion Tour at Auburn Valley
DESCRIPTION:Come explore one of the best examples of a Queen Anne-style Victorian mansion that Delaware has to offer with a one-hour tour\, at 1 p.m. every Thursday and Friday. The mansion is the former home of the Marshall family whose history and legacy of industry and innovation filled the home with the antiques and furnishings you will see there today. You will get to explore two floors of Auburn Heights with a small group (maximum 10 people). A discounted joint tour to the Marshall Steam Museum and Mansion is only available by paying day of for your tour. If you pre-book you will not get the dollar off each tour discount. $8 per adult\, $4 per child.
URL:https://delawareads.com/event/mansion-tour-at-auburn-valley-13/
LOCATION:Auburn Valley State Park
CATEGORIES:Hiking & Walking Trails,Museum,Park
ATTACH;FMTTYPE=image/jpeg:https://delawareads.com/wp-content/uploads/2026/02/Auburn.jpg
END:VEVENT
BEGIN:VEVENT
DTSTART;TZID=America/New_York:20260424T180000
DTEND;TZID=America/New_York:20260424T190000
DTSTAMP:20260424T013904
CREATED:20260420T223006Z
LAST-MODIFIED:20260420T223006Z
UID:10007888-1777053600-1777057200@delawareads.com
SUMMARY:Pontoon Tour (Reserved Seat) at Alapocas Run
DESCRIPTION:Immerse yourself in the sights and sounds of the cypress swamp during this 1-hour guided tour aboard our 28-foot pontoon boat. These tickets are for individual seats on the pontoon boat. Online registration ends 48 hours prior to the pontoon tour. To make a reservation for your family/household group\, please call the Baldcypress Nature Center directly at 302-875-5163. Adults $8\, Children (Age 12 and under) $4.
URL:https://delawareads.com/event/pontoon-tour-reserved-seat-at-alapocas-run-3/
LOCATION:Alapocas Run State Park\, 1914 W. Park Drive\, Wilmington\, DE\, 19802\, United States
ATTACH;FMTTYPE=image/png:https://delawareads.com/wp-content/uploads/2026/02/Alapocas.png
END:VEVENT
BEGIN:VEVENT
DTSTART;TZID=America/New_York:20260424T183000
DTEND;TZID=America/New_York:20260424T200000
DTSTAMP:20260424T013904
CREATED:20260421T033010Z
LAST-MODIFIED:20260421T033010Z
UID:10007989-1777055400-1777060800@delawareads.com
SUMMARY:Paper Mill Tour at Auburn Valley
DESCRIPTION:After-work adventures await for the abandoned history explorer. Check out of work and check into a shift in the old marshall paper mill. An abandoned 19th-century paper mill with features dating back to the 18th century. This special tour of the paper mill includes access to rarely accessed areas of the mill and includes a hike around the mill site after the tour by flashlight. $10 per person.
URL:https://delawareads.com/event/paper-mill-tour-at-auburn-valley/
LOCATION:Auburn Valley State Park
ATTACH;FMTTYPE=image/jpeg:https://delawareads.com/wp-content/uploads/2026/02/Auburn.jpg
END:VEVENT
BEGIN:VEVENT
DTSTART;TZID=America/New_York:20260424T193000
DTEND;TZID=America/New_York:20260424T203000
DTSTAMP:20260424T013904
CREATED:20260421T042914Z
LAST-MODIFIED:20260421T042914Z
UID:10007998-1777059000-1777062600@delawareads.com
SUMMARY:Calling All Frogs at Lums Pond
DESCRIPTION:Bring your flashlight and join us on a search for frogs! Hike at Lums Pond after dark and learn about Delaware’s amazing amphibians. Online registration ends 24 hours prior to the program. After that\, please call 302-368-6989.
URL:https://delawareads.com/event/calling-all-frogs-at-lums-pond/
LOCATION:Lums Pond State Park\, 1065 Howell School Road\, Bear\, DE\, 19701\, United States
ATTACH;FMTTYPE=image/png:https://delawareads.com/wp-content/uploads/2026/02/LumsPond.png
END:VEVENT
BEGIN:VEVENT
DTSTART;TZID=America/New_York:20260424T200000
DTEND;TZID=America/New_York:20260424T213000
DTSTAMP:20260424T013904
CREATED:20260420T225848Z
LAST-MODIFIED:20260420T225848Z
UID:10007903-1777060800-1777066200@delawareads.com
SUMMARY:Intro to the Night Sky at Alapocas Run
DESCRIPTION:Join members of the Delaware Astronomical Society for an evening of stargazing. Learn constellations through an introduction to observing the night sky. This program is appropriate for beginners through advanced stargazers of all ages. Equipment will be available\, or you may bring your own. Red-filtered lights only please. Pre-registration is required: call us at 302-793-3046 or email us at bellevueprogramming@delaware.gov. Meet in the Hunter Barn parking lot. Free!
URL:https://delawareads.com/event/intro-to-the-night-sky-at-alapocas-run/
LOCATION:Alapocas Run State Park\, 1914 W. Park Drive\, Wilmington\, DE\, 19802\, United States
CATEGORIES:Community,Hiking & Walking Trails,Park
ATTACH;FMTTYPE=image/png:https://delawareads.com/wp-content/uploads/2026/02/Alapocas.png
END:VEVENT
END:VCALENDAR