BEGIN:VCALENDAR
VERSION:2.0
PRODID:-// - ECPv6.15.20//NONSGML v1.0//EN
CALSCALE:GREGORIAN
METHOD:PUBLISH
X-ORIGINAL-URL:https://delawareads.com
X-WR-CALDESC:Events for 
REFRESH-INTERVAL;VALUE=DURATION:PT1H
X-Robots-Tag:noindex
X-PUBLISHED-TTL:PT1H
BEGIN:VTIMEZONE
TZID:America/New_York
BEGIN:DAYLIGHT
TZOFFSETFROM:-0500
TZOFFSETTO:-0400
TZNAME:EDT
DTSTART:20250309T070000
END:DAYLIGHT
BEGIN:STANDARD
TZOFFSETFROM:-0400
TZOFFSETTO:-0500
TZNAME:EST
DTSTART:20251102T060000
END:STANDARD
BEGIN:DAYLIGHT
TZOFFSETFROM:-0500
TZOFFSETTO:-0400
TZNAME:EDT
DTSTART:20260308T070000
END:DAYLIGHT
BEGIN:STANDARD
TZOFFSETFROM:-0400
TZOFFSETTO:-0500
TZNAME:EST
DTSTART:20261101T060000
END:STANDARD
BEGIN:DAYLIGHT
TZOFFSETFROM:-0500
TZOFFSETTO:-0400
TZNAME:EDT
DTSTART:20270314T070000
END:DAYLIGHT
BEGIN:STANDARD
TZOFFSETFROM:-0400
TZOFFSETTO:-0500
TZNAME:EST
DTSTART:20271107T060000
END:STANDARD
END:VTIMEZONE
BEGIN:VEVENT
DTSTART;TZID=America/New_York:20260322T110000
DTEND;TZID=America/New_York:20260322T120000
DTSTAMP:20260422T122010
CREATED:20260311T171214Z
LAST-MODIFIED:20260311T171214Z
UID:10007850-1774177200-1774180800@delawareads.com
SUMMARY:Art in Nature at Killens Pond
DESCRIPTION:If you like doing different types of arts and crafts\, well this is the program for you! Each program will include a different type of art and craft project using objects from nature.
URL:https://delawareads.com/event/art-in-nature-at-killens-pond/
LOCATION:Killens Pond State Park\, 5025 Killens Pond Rd\, Felton\, DE\, 19952\, United States
CATEGORIES:Camping,Community,Fishing,Hiking & Walking Trails,Park
ATTACH;FMTTYPE=image/jpeg:https://delawareads.com/wp-content/uploads/2025/05/Killens.jpg
END:VEVENT
BEGIN:VEVENT
DTSTART;TZID=America/New_York:20260327T110000
DTEND;TZID=America/New_York:20260327T120000
DTSTAMP:20260422T122010
CREATED:20260311T173545Z
LAST-MODIFIED:20260311T173545Z
UID:10007867-1774609200-1774612800@delawareads.com
SUMMARY:Discover Battery 519 at Cape Henlopen
DESCRIPTION:Tour the underground Battery 519 to discover how Fort Miles planned to defend the east coast from the anticipated threats of WWII. Tours meet at the Fort Miles Museum in Battery 519. Recommended for ages 7+. $6 per person. Online registration ends 24 hours prior to the program. After that\, please call 302-644-5007. Park entrance fees are in effect.
URL:https://delawareads.com/event/discover-battery-519-at-cape-henlopen-11/
LOCATION:Cape Henlopen State Park\, 15099 Cape Henlopen Dr\, Lewes\, DE\, 19958\, United States
CATEGORIES:Camping,Community,Fishing,Hiking & Walking Trails,Park
ATTACH;FMTTYPE=image/jpeg:https://delawareads.com/wp-content/uploads/2026/03/Cape-Henlopen-1.jpg
END:VEVENT
BEGIN:VEVENT
DTSTART;TZID=America/New_York:20260327T183000
DTEND;TZID=America/New_York:20260327T193000
DTSTAMP:20260422T122011
CREATED:20260311T155435Z
LAST-MODIFIED:20260311T155435Z
UID:10007808-1774636200-1774639800@delawareads.com
SUMMARY:Lantern Tour at Cape Henlopen
DESCRIPTION:In the spring of 1942 World War II came to the shores of America’s Atlantic coast. Tour Battery 519 by lantern light as we reveal U-boats on the prowl\, sailors in distress and what World War II turned out to be for the soldiers stationed at Fort Miles. Tours meet at the Orientation Building by the main Fort Miles Museum parking lot. Recommended for ages 10+. $8 per person. Online registration ends 24 hours prior to the program. After that\, please call 302-644-5007. Park entrance fees are in effect.
URL:https://delawareads.com/event/lantern-tour-at-cape-henlopen-2/
LOCATION:Cape Henlopen State Park\, 15099 Cape Henlopen Dr\, Lewes\, DE\, 19958\, United States
CATEGORIES:Camping,Community,Fishing,Hiking & Walking Trails,Park
ATTACH;FMTTYPE=image/jpeg:https://delawareads.com/wp-content/uploads/2026/03/Cape-Henlopen-1.jpg
END:VEVENT
BEGIN:VEVENT
DTSTART;TZID=America/New_York:20260328T090000
DTEND;TZID=America/New_York:20260328T120000
DTSTAMP:20260422T122011
CREATED:20260311T132522Z
LAST-MODIFIED:20260311T145352Z
UID:10007772-1774688400-1774699200@delawareads.com
SUMMARY:Intro to Surf Fishing at Delaware Seashore
DESCRIPTION:Have you always wanted to try surf fishing but werenÂt sure how to get started? If so\, this program is for you! Everything from fish identification to proper casting techniques will be covered in this three-hour program. Rods\, reels\, and bait are provided. Ages 12 and up. Those under 16 must be accompanied by a paying adult. Online registration ends 24 hours prior to program. After that\, please call 302-227-6991. $25 per person
URL:https://delawareads.com/event/intro-to-surf-fishing-at-delaware-seashore-2/
LOCATION:Delaware Seashore State Park\, 39415 Inlet Rd\, Rehoboth Beach\, DE\, 19971\, United States
CATEGORIES:Boating,Camping,Fishing,Hiking & Walking Trails,Park
ATTACH;FMTTYPE=image/jpeg:https://delawareads.com/wp-content/uploads/2026/03/Delaware-Seashore-State-Park.jpg
END:VEVENT
BEGIN:VEVENT
DTSTART;TZID=America/New_York:20260328T100000
DTEND;TZID=America/New_York:20260328T110000
DTSTAMP:20260422T122011
CREATED:20260311T161635Z
LAST-MODIFIED:20260311T161635Z
UID:10007826-1774692000-1774695600@delawareads.com
SUMMARY:Citizen Science at the Shore at Cape Henlopen
DESCRIPTION:Do science and help the beach? Yes\, you can! Have fun collecting data to help make our beaches better. For ages 5+ with an adult. Pre-register by calling (302) 645-6852.
URL:https://delawareads.com/event/citizen-science-at-the-shore-at-cape-henlopen/
LOCATION:Cape Henlopen State Park\, 15099 Cape Henlopen Dr\, Lewes\, DE\, 19958\, United States
CATEGORIES:Camping,Community,Fishing,Hiking & Walking Trails,Park
ATTACH;FMTTYPE=image/jpeg:https://delawareads.com/wp-content/uploads/2026/03/Cape-Henlopen-1.jpg
END:VEVENT
BEGIN:VEVENT
DTSTART;TZID=America/New_York:20260328T110000
DTEND;TZID=America/New_York:20260328T120000
DTSTAMP:20260422T122011
CREATED:20260311T153858Z
LAST-MODIFIED:20260311T153858Z
UID:10007800-1774695600-1774699200@delawareads.com
SUMMARY:Discover Battery 519 at Cape Henlopen
DESCRIPTION:Tour the underground Battery 519 to discover how Fort Miles planned to defend the east coast from the anticipated threats of WWII. Tours meet at the Fort Miles Museum in Battery 519. Recommended for ages 7+. $6 per person. Online registration ends 24 hours prior to the program. After that\, please call 302-644-5007. Park entrance fees are in effect.
URL:https://delawareads.com/event/discover-battery-519-at-cape-henlopen-7/
LOCATION:Cape Henlopen State Park\, 15099 Cape Henlopen Dr\, Lewes\, DE\, 19958\, United States
CATEGORIES:Camping,Community,Fishing,Hiking & Walking Trails,Park
ATTACH;FMTTYPE=image/jpeg:https://delawareads.com/wp-content/uploads/2026/03/Cape-Henlopen-1.jpg
END:VEVENT
BEGIN:VEVENT
DTSTART;TZID=America/New_York:20260331T080000
DTEND;TZID=America/New_York:20260331T100000
DTSTAMP:20260422T122011
CREATED:20260311T154403Z
LAST-MODIFIED:20260311T154403Z
UID:10007803-1774944000-1774951200@delawareads.com
SUMMARY:Spring Bird Walk at Cape Henlopen
DESCRIPTION:Search the park for birds on their spring migration. Each walk will target current birding hot spots. For beginning and intermediate birders. Bring your binoculars or borrow a pair of ours. For ages 10+ with an adult. Pre-register by calling (302) 645-6852.
URL:https://delawareads.com/event/spring-bird-walk-at-cape-henlopen/
LOCATION:Cape Henlopen State Park\, 15099 Cape Henlopen Dr\, Lewes\, DE\, 19958\, United States
CATEGORIES:Camping,Community,Fishing,Hiking & Walking Trails,Park
ATTACH;FMTTYPE=image/jpeg:https://delawareads.com/wp-content/uploads/2026/03/Cape-Henlopen-1.jpg
END:VEVENT
BEGIN:VEVENT
DTSTART;TZID=America/New_York:20260331T110000
DTEND;TZID=America/New_York:20260331T120000
DTSTAMP:20260422T122011
CREATED:20260311T155051Z
LAST-MODIFIED:20260311T155051Z
UID:10007806-1774954800-1774958400@delawareads.com
SUMMARY:Senior Scientists:Birding at Killens Pond
DESCRIPTION:Join us for this 6 session Senior Naturalist program. We will explore the park while hiking\, and get a closer look at some of the animals and plants that call Killens Pond home. $6/person for select sessions. Pre-registration required (online registration ends 22 hours prior to the program; afterwards call 302-284-4299).
URL:https://delawareads.com/event/senior-scientistsbirding-at-killens-pond/
LOCATION:Killens Pond State Park\, 5025 Killens Pond Rd\, Felton\, DE\, 19952\, United States
CATEGORIES:Camping,Community,Fishing,Hiking & Walking Trails,Park
ATTACH;FMTTYPE=image/jpeg:https://delawareads.com/wp-content/uploads/2025/05/Killens.jpg
END:VEVENT
END:VCALENDAR