BEGIN:VCALENDAR
VERSION:2.0
PRODID:-// - ECPv6.15.20//NONSGML v1.0//EN
CALSCALE:GREGORIAN
METHOD:PUBLISH
X-ORIGINAL-URL:https://delawareads.com
X-WR-CALDESC:Events for 
REFRESH-INTERVAL;VALUE=DURATION:PT1H
X-Robots-Tag:noindex
X-PUBLISHED-TTL:PT1H
BEGIN:VTIMEZONE
TZID:America/New_York
BEGIN:DAYLIGHT
TZOFFSETFROM:-0500
TZOFFSETTO:-0400
TZNAME:EDT
DTSTART:20250309T070000
END:DAYLIGHT
BEGIN:STANDARD
TZOFFSETFROM:-0400
TZOFFSETTO:-0500
TZNAME:EST
DTSTART:20251102T060000
END:STANDARD
BEGIN:DAYLIGHT
TZOFFSETFROM:-0500
TZOFFSETTO:-0400
TZNAME:EDT
DTSTART:20260308T070000
END:DAYLIGHT
BEGIN:STANDARD
TZOFFSETFROM:-0400
TZOFFSETTO:-0500
TZNAME:EST
DTSTART:20261101T060000
END:STANDARD
BEGIN:DAYLIGHT
TZOFFSETFROM:-0500
TZOFFSETTO:-0400
TZNAME:EDT
DTSTART:20270314T070000
END:DAYLIGHT
BEGIN:STANDARD
TZOFFSETFROM:-0400
TZOFFSETTO:-0500
TZNAME:EST
DTSTART:20271107T060000
END:STANDARD
END:VTIMEZONE
BEGIN:VEVENT
DTSTART;TZID=America/New_York:20260424T090000
DTEND;TZID=America/New_York:20260424T120000
DTSTAMP:20260422T120402
CREATED:20260420T224646Z
LAST-MODIFIED:20260420T224646Z
UID:10007893-1777021200-1777032000@delawareads.com
SUMMARY:Intro to Surf Fishing at Delaware Seashore
DESCRIPTION:Have you always wanted to try surf fishing but werenÂt sure how to get started? If so\, this program is for you! Everything from fish identification to proper casting techniques will be covered in this three-hour program. Rods\, reels\, and bait are provided. Ages 12 and up. Those under 16 must be accompanied by a paying adult. Online registration ends 24 hours prior to program. After that\, please call 302-227-6991. $25 per person
URL:https://delawareads.com/event/intro-to-surf-fishing-at-delaware-seashore-3/
LOCATION:Delaware Seashore State Park\, 39415 Inlet Rd\, Rehoboth Beach\, DE\, 19971\, United States
CATEGORIES:Boating,Camping,Fishing,Hiking & Walking Trails,Park
ATTACH;FMTTYPE=image/jpeg:https://delawareads.com/wp-content/uploads/2026/03/Delaware-Seashore-State-Park.jpg
END:VEVENT
END:VCALENDAR