BEGIN:VCALENDAR
VERSION:2.0
PRODID:-// - ECPv6.15.20//NONSGML v1.0//EN
CALSCALE:GREGORIAN
METHOD:PUBLISH
X-ORIGINAL-URL:https://delawareads.com
X-WR-CALDESC:Events for 
REFRESH-INTERVAL;VALUE=DURATION:PT1H
X-Robots-Tag:noindex
X-PUBLISHED-TTL:PT1H
BEGIN:VTIMEZONE
TZID:America/New_York
BEGIN:DAYLIGHT
TZOFFSETFROM:-0500
TZOFFSETTO:-0400
TZNAME:EDT
DTSTART:20250309T070000
END:DAYLIGHT
BEGIN:STANDARD
TZOFFSETFROM:-0400
TZOFFSETTO:-0500
TZNAME:EST
DTSTART:20251102T060000
END:STANDARD
BEGIN:DAYLIGHT
TZOFFSETFROM:-0500
TZOFFSETTO:-0400
TZNAME:EDT
DTSTART:20260308T070000
END:DAYLIGHT
BEGIN:STANDARD
TZOFFSETFROM:-0400
TZOFFSETTO:-0500
TZNAME:EST
DTSTART:20261101T060000
END:STANDARD
BEGIN:DAYLIGHT
TZOFFSETFROM:-0500
TZOFFSETTO:-0400
TZNAME:EDT
DTSTART:20270314T070000
END:DAYLIGHT
BEGIN:STANDARD
TZOFFSETFROM:-0400
TZOFFSETTO:-0500
TZNAME:EST
DTSTART:20271107T060000
END:STANDARD
END:VTIMEZONE
BEGIN:VEVENT
DTSTART;TZID=America/New_York:20260515T110000
DTEND;TZID=America/New_York:20260515T120000
DTSTAMP:20260422T135644
CREATED:20260420T214445Z
LAST-MODIFIED:20260420T214445Z
UID:10007882-1778842800-1778846400@delawareads.com
SUMMARY:Discover Battery 519 at Cape Henlopen
DESCRIPTION:Tour the underground Battery 519 to discover how Fort Miles planned to defend the east coast from the anticipated threats of WWII. Tours meet at the Fort Miles Museum in Battery 519. Recommended for ages 7+. $6 per person. Online registration ends 24 hours prior to the program. After that\, please call 302-644-5007.
URL:https://delawareads.com/event/discover-battery-519-at-cape-henlopen-12/
LOCATION:Cape Henlopen State Park\, 15099 Cape Henlopen Dr\, Lewes\, DE\, 19958\, United States
CATEGORIES:Camping,Community,Fishing,Hiking & Walking Trails,Park
ATTACH;FMTTYPE=image/jpeg:https://delawareads.com/wp-content/uploads/2026/03/Cape-Henlopen-1.jpg
END:VEVENT
BEGIN:VEVENT
DTSTART;TZID=America/New_York:20260515T140000
DTEND;TZID=America/New_York:20260515T150000
DTSTAMP:20260422T135644
CREATED:20260421T024405Z
LAST-MODIFIED:20260421T024405Z
UID:10007973-1778853600-1778857200@delawareads.com
SUMMARY:Morse Code Bracelet at Delaware Seashore
DESCRIPTION:This fashion makes a statement- literally! Morse code has been an important part of maritime communication since it was invented in 1844. Discover the history and value of Morse code while creating your own wearable message. Online registration ends 24 hours prior to program. After that\, please call 302-227-6991.
URL:https://delawareads.com/event/morse-code-bracelet-at-delaware-seashore-2/
LOCATION:Delaware Seashore State Park\, 39415 Inlet Rd\, Rehoboth Beach\, DE\, 19971\, United States
CATEGORIES:Boating,Camping,Fishing,Hiking & Walking Trails,Park
ATTACH;FMTTYPE=image/jpeg:https://delawareads.com/wp-content/uploads/2026/03/Delaware-Seashore-State-Park.jpg
END:VEVENT
BEGIN:VEVENT
DTSTART;TZID=America/New_York:20260515T163000
DTEND;TZID=America/New_York:20260515T193000
DTSTAMP:20260422T135644
CREATED:20260420T213757Z
LAST-MODIFIED:20260420T213757Z
UID:10007876-1778862600-1778873400@delawareads.com
SUMMARY:Gaming under the Great Dune at Cape Henlopen
DESCRIPTION:Join other model wargamers to play scenarios in an underground WWII artillery position! Amateur to expert gamers welcome. Some refreshments provided\, gamers are encouraged to bring their own models and terrain. Staff will be available to support new gamers. Games will be played for 3 hours and participants are encouraged to join for as long or as little as they like!
URL:https://delawareads.com/event/gaming-under-the-great-dune-at-cape-henlopen/
LOCATION:Cape Henlopen State Park\, 15099 Cape Henlopen Dr\, Lewes\, DE\, 19958\, United States
CATEGORIES:Camping,Community,Fishing,Hiking & Walking Trails,Park
ATTACH;FMTTYPE=image/jpeg:https://delawareads.com/wp-content/uploads/2026/03/Cape-Henlopen-1.jpg
END:VEVENT
END:VCALENDAR