BEGIN:VCALENDAR
VERSION:2.0
PRODID:-// - ECPv6.15.20//NONSGML v1.0//EN
CALSCALE:GREGORIAN
METHOD:PUBLISH
X-ORIGINAL-URL:https://delawareads.com
X-WR-CALDESC:Events for 
REFRESH-INTERVAL;VALUE=DURATION:PT1H
X-Robots-Tag:noindex
X-PUBLISHED-TTL:PT1H
BEGIN:VTIMEZONE
TZID:America/New_York
BEGIN:DAYLIGHT
TZOFFSETFROM:-0500
TZOFFSETTO:-0400
TZNAME:EDT
DTSTART:20250309T070000
END:DAYLIGHT
BEGIN:STANDARD
TZOFFSETFROM:-0400
TZOFFSETTO:-0500
TZNAME:EST
DTSTART:20251102T060000
END:STANDARD
BEGIN:DAYLIGHT
TZOFFSETFROM:-0500
TZOFFSETTO:-0400
TZNAME:EDT
DTSTART:20260308T070000
END:DAYLIGHT
BEGIN:STANDARD
TZOFFSETFROM:-0400
TZOFFSETTO:-0500
TZNAME:EST
DTSTART:20261101T060000
END:STANDARD
BEGIN:DAYLIGHT
TZOFFSETFROM:-0500
TZOFFSETTO:-0400
TZNAME:EDT
DTSTART:20270314T070000
END:DAYLIGHT
BEGIN:STANDARD
TZOFFSETFROM:-0400
TZOFFSETTO:-0500
TZNAME:EST
DTSTART:20271107T060000
END:STANDARD
END:VTIMEZONE
BEGIN:VEVENT
DTSTART;TZID=America/New_York:20260516T090000
DTEND;TZID=America/New_York:20260516T113000
DTSTAMP:20260422T135910
CREATED:20260420T224937Z
LAST-MODIFIED:20260420T224937Z
UID:10007895-1778922000-1778931000@delawareads.com
SUMMARY:Beach Driving Clinic at Delaware Seashore
DESCRIPTION:Learn park rules\, licensing requirements\, and tips from park staff to maximize your safety while driving on the beach. Then\, follow park staff out to the beach to practice driving on the sand. Participants must have a valid surf tag and the required equipment to do so. Online registration ends 24 hours prior to program. After that\, please call 302-227-6991. $20 per person
URL:https://delawareads.com/event/beach-driving-clinic-at-delaware-seashore-6/
LOCATION:Delaware Seashore State Park\, 39415 Inlet Rd\, Rehoboth Beach\, DE\, 19971\, United States
CATEGORIES:Boating,Camping,Fishing,Hiking & Walking Trails,Park
ATTACH;FMTTYPE=image/jpeg:https://delawareads.com/wp-content/uploads/2026/03/Delaware-Seashore-State-Park.jpg
END:VEVENT
BEGIN:VEVENT
DTSTART;TZID=America/New_York:20260516T100000
DTEND;TZID=America/New_York:20260516T110000
DTSTAMP:20260422T135910
CREATED:20260421T022355Z
LAST-MODIFIED:20260421T022355Z
UID:10007957-1778925600-1778929200@delawareads.com
SUMMARY:Cape Nature 250 to Today Hike at Cape Henlopen
DESCRIPTION:Take a walk through space and time as we explore how the flora\, fauna and landscape of Cape has changed from 1776 to 2026. For ages 7+ with an adult. Pre-register required by calling (302) 645-6852.FREE with park entrance fee.
URL:https://delawareads.com/event/cape-nature-250-to-today-hike-at-cape-henlopen/
LOCATION:Cape Henlopen State Park\, 15099 Cape Henlopen Dr\, Lewes\, DE\, 19958\, United States
CATEGORIES:Camping,Community,Fishing,Hiking & Walking Trails,Park
ATTACH;FMTTYPE=image/jpeg:https://delawareads.com/wp-content/uploads/2026/03/Cape-Henlopen-1.jpg
END:VEVENT
END:VCALENDAR