BEGIN:VCALENDAR
VERSION:2.0
PRODID:-// - ECPv6.15.20//NONSGML v1.0//EN
CALSCALE:GREGORIAN
METHOD:PUBLISH
X-ORIGINAL-URL:https://delawareads.com
X-WR-CALDESC:Events for 
REFRESH-INTERVAL;VALUE=DURATION:PT1H
X-Robots-Tag:noindex
X-PUBLISHED-TTL:PT1H
BEGIN:VTIMEZONE
TZID:America/New_York
BEGIN:DAYLIGHT
TZOFFSETFROM:-0500
TZOFFSETTO:-0400
TZNAME:EDT
DTSTART:20250309T070000
END:DAYLIGHT
BEGIN:STANDARD
TZOFFSETFROM:-0400
TZOFFSETTO:-0500
TZNAME:EST
DTSTART:20251102T060000
END:STANDARD
BEGIN:DAYLIGHT
TZOFFSETFROM:-0500
TZOFFSETTO:-0400
TZNAME:EDT
DTSTART:20260308T070000
END:DAYLIGHT
BEGIN:STANDARD
TZOFFSETFROM:-0400
TZOFFSETTO:-0500
TZNAME:EST
DTSTART:20261101T060000
END:STANDARD
BEGIN:DAYLIGHT
TZOFFSETFROM:-0500
TZOFFSETTO:-0400
TZNAME:EDT
DTSTART:20270314T070000
END:DAYLIGHT
BEGIN:STANDARD
TZOFFSETFROM:-0400
TZOFFSETTO:-0500
TZNAME:EST
DTSTART:20271107T060000
END:STANDARD
END:VTIMEZONE
BEGIN:VEVENT
DTSTART;TZID=America/New_York:20260422T100000
DTEND;TZID=America/New_York:20260422T110000
DTSTAMP:20260422T120231
CREATED:20260421T020410Z
LAST-MODIFIED:20260421T020410Z
UID:10007940-1776852000-1776855600@delawareads.com
SUMMARY:Earth Day: Dunes or Defense at Cape Henlopen
DESCRIPTION:Take a guided hike to the top of the Great Dune in celebration of Earth Day and Delaware State Parks’ 75th birthday! Learn how it contributed to coastal defense and how students defended the dune on the first Earth Day in 1970\, helping to create the Cape Henlopen State Park we love today! Meet at the Orientation Building by the main Fort Miles Museum parking lot. Recommended for ages 7+. Free\, no registration required.
URL:https://delawareads.com/event/earth-day-dunes-or-defense-at-cape-henlopen/
LOCATION:Cape Henlopen State Park\, 15099 Cape Henlopen Dr\, Lewes\, DE\, 19958\, United States
CATEGORIES:Camping,Community,Fishing,Hiking & Walking Trails,Park
ATTACH;FMTTYPE=image/jpeg:https://delawareads.com/wp-content/uploads/2026/03/Cape-Henlopen-1.jpg
END:VEVENT
BEGIN:VEVENT
DTSTART;TZID=America/New_York:20260422T170000
DTEND;TZID=America/New_York:20260422T180000
DTSTAMP:20260422T120232
CREATED:20260421T024100Z
LAST-MODIFIED:20260421T024100Z
UID:10007971-1776877200-1776880800@delawareads.com
SUMMARY:Earth Day Evening Hike at Cape Henlopen
DESCRIPTION:Celebrate Earth Day with a guided hike exploring the parkÂs flora and fauna before the sun sets. For ages 7+ with an adult. Pre-register required by calling (302) 645-6852.FREE with park entrance fee.
URL:https://delawareads.com/event/earth-day-evening-hike-at-cape-henlopen/
LOCATION:Cape Henlopen State Park\, 15099 Cape Henlopen Dr\, Lewes\, DE\, 19958\, United States
CATEGORIES:Camping,Community,Fishing,Hiking & Walking Trails,Park
ATTACH;FMTTYPE=image/jpeg:https://delawareads.com/wp-content/uploads/2026/03/Cape-Henlopen-1.jpg
END:VEVENT
END:VCALENDAR