BEGIN:VCALENDAR
VERSION:2.0
PRODID:-// - ECPv6.15.20//NONSGML v1.0//EN
CALSCALE:GREGORIAN
METHOD:PUBLISH
X-ORIGINAL-URL:https://delawareads.com
X-WR-CALDESC:Events for 
REFRESH-INTERVAL;VALUE=DURATION:PT1H
X-Robots-Tag:noindex
X-PUBLISHED-TTL:PT1H
BEGIN:VTIMEZONE
TZID:America/New_York
BEGIN:DAYLIGHT
TZOFFSETFROM:-0500
TZOFFSETTO:-0400
TZNAME:EDT
DTSTART:20250309T070000
END:DAYLIGHT
BEGIN:STANDARD
TZOFFSETFROM:-0400
TZOFFSETTO:-0500
TZNAME:EST
DTSTART:20251102T060000
END:STANDARD
BEGIN:DAYLIGHT
TZOFFSETFROM:-0500
TZOFFSETTO:-0400
TZNAME:EDT
DTSTART:20260308T070000
END:DAYLIGHT
BEGIN:STANDARD
TZOFFSETFROM:-0400
TZOFFSETTO:-0500
TZNAME:EST
DTSTART:20261101T060000
END:STANDARD
BEGIN:DAYLIGHT
TZOFFSETFROM:-0500
TZOFFSETTO:-0400
TZNAME:EDT
DTSTART:20270314T070000
END:DAYLIGHT
BEGIN:STANDARD
TZOFFSETFROM:-0400
TZOFFSETTO:-0500
TZNAME:EST
DTSTART:20271107T060000
END:STANDARD
END:VTIMEZONE
BEGIN:VEVENT
DTSTART;TZID=America/New_York:20260331T080000
DTEND;TZID=America/New_York:20260331T100000
DTSTAMP:20260422T140651
CREATED:20260311T154403Z
LAST-MODIFIED:20260311T154403Z
UID:10007803-1774944000-1774951200@delawareads.com
SUMMARY:Spring Bird Walk at Cape Henlopen
DESCRIPTION:Search the park for birds on their spring migration. Each walk will target current birding hot spots. For beginning and intermediate birders. Bring your binoculars or borrow a pair of ours. For ages 10+ with an adult. Pre-register by calling (302) 645-6852.
URL:https://delawareads.com/event/spring-bird-walk-at-cape-henlopen/
LOCATION:Cape Henlopen State Park\, 15099 Cape Henlopen Dr\, Lewes\, DE\, 19958\, United States
CATEGORIES:Camping,Community,Fishing,Hiking & Walking Trails,Park
ATTACH;FMTTYPE=image/jpeg:https://delawareads.com/wp-content/uploads/2026/03/Cape-Henlopen-1.jpg
END:VEVENT
BEGIN:VEVENT
DTSTART;TZID=America/New_York:20260331T110000
DTEND;TZID=America/New_York:20260331T120000
DTSTAMP:20260422T140651
CREATED:20260311T155051Z
LAST-MODIFIED:20260311T155051Z
UID:10007806-1774954800-1774958400@delawareads.com
SUMMARY:Senior Scientists:Birding at Killens Pond
DESCRIPTION:Join us for this 6 session Senior Naturalist program. We will explore the park while hiking\, and get a closer look at some of the animals and plants that call Killens Pond home. $6/person for select sessions. Pre-registration required (online registration ends 22 hours prior to the program; afterwards call 302-284-4299).
URL:https://delawareads.com/event/senior-scientistsbirding-at-killens-pond/
LOCATION:Killens Pond State Park\, 5025 Killens Pond Rd\, Felton\, DE\, 19952\, United States
CATEGORIES:Camping,Community,Fishing,Hiking & Walking Trails,Park
ATTACH;FMTTYPE=image/jpeg:https://delawareads.com/wp-content/uploads/2025/05/Killens.jpg
END:VEVENT
BEGIN:VEVENT
DTSTART;TZID=America/New_York:20260401T110000
DTEND;TZID=America/New_York:20260401T120000
DTSTAMP:20260422T140651
CREATED:20260311T171730Z
LAST-MODIFIED:20260311T171730Z
UID:10007854-1775041200-1775044800@delawareads.com
SUMMARY:Beach Nature Program: The Great Egg-Case Hunt! at Cape Henlopen
DESCRIPTION:ItÂs no joke. Search the beach for whelk egg-cases and other beach treasures that wash up and discover more about marine egg laying species. For ages 5+ with a paying adult. $6 per person
URL:https://delawareads.com/event/beach-nature-program-the-great-egg-case-hunt-at-cape-henlopen/
LOCATION:Cape Henlopen State Park\, 15099 Cape Henlopen Dr\, Lewes\, DE\, 19958\, United States
CATEGORIES:Camping,Community,Fishing,Hiking & Walking Trails,Park
ATTACH;FMTTYPE=image/jpeg:https://delawareads.com/wp-content/uploads/2026/03/Cape-Henlopen-1.jpg
END:VEVENT
BEGIN:VEVENT
DTSTART;TZID=America/New_York:20260402T090000
DTEND;TZID=America/New_York:20260402T120000
DTSTAMP:20260422T140651
CREATED:20260311T154036Z
LAST-MODIFIED:20260311T154036Z
UID:10007801-1775120400-1775131200@delawareads.com
SUMMARY:Intro to Surf Fishing at Delaware Seashore
DESCRIPTION:Have you always wanted to try surf fishing but werenÂt sure how to get started? If so\, this program is for you! Everything from fish identification to proper casting techniques will be covered in this three-hour program. Rods\, reels\, and bait are provided. Ages 12 and up. Those under 16 must be accompanied by a paying adult. Online registration ends 24 hours prior to program. After that\, please call 302-227-6991. $25 per person
URL:https://delawareads.com/event/intro-to-surf-fishing-at-delaware-seashore/
LOCATION:Delaware Seashore State Park\, 39415 Inlet Rd\, Rehoboth Beach\, DE\, 19971\, United States
CATEGORIES:Boating,Camping,Fishing,Hiking & Walking Trails,Park
ATTACH;FMTTYPE=image/jpeg:https://delawareads.com/wp-content/uploads/2026/03/Delaware-Seashore-State-Park.jpg
END:VEVENT
BEGIN:VEVENT
DTSTART;TZID=America/New_York:20260402T110000
DTEND;TZID=America/New_York:20260402T120000
DTSTAMP:20260422T140651
CREATED:20260311T171608Z
LAST-MODIFIED:20260311T171608Z
UID:10007853-1775127600-1775131200@delawareads.com
SUMMARY:Discover Battery 519 at Cape Henlopen
DESCRIPTION:Tour the underground Battery 519 to discover how Fort Miles planned to defend the east coast from the anticipated threats of WWII. Tours meet at the Fort Miles Museum in Battery 519. Recommended for ages 7+. $6 per person. Online registration ends 24 hours prior to the program. After that\, please call 302-644-5007.
URL:https://delawareads.com/event/discover-battery-519-at-cape-henlopen-10/
LOCATION:Cape Henlopen State Park\, 15099 Cape Henlopen Dr\, Lewes\, DE\, 19958\, United States
CATEGORIES:Camping,Community,Fishing,Hiking & Walking Trails,Park
ATTACH;FMTTYPE=image/jpeg:https://delawareads.com/wp-content/uploads/2026/03/Cape-Henlopen-1.jpg
END:VEVENT
BEGIN:VEVENT
DTSTART;TZID=America/New_York:20260402T110000
DTEND;TZID=America/New_York:20260402T120000
DTSTAMP:20260422T140651
CREATED:20260311T172844Z
LAST-MODIFIED:20260311T172844Z
UID:10007861-1775127600-1775131200@delawareads.com
SUMMARY:Squid Dissection at Cape Henlopen
DESCRIPTION:Explore the ins and outs of these mysterious animals through hands-on dissection. For ages 7+ with a paying adult. Online registration ends 24 hours prior to the program. After that\, please call (302) 645-6852. $9 per person. Park entrance fees are in effect.
URL:https://delawareads.com/event/squid-dissection-at-cape-henlopen/
LOCATION:Cape Henlopen State Park\, 15099 Cape Henlopen Dr\, Lewes\, DE\, 19958\, United States
CATEGORIES:Camping,Community,Fishing,Hiking & Walking Trails,Park
ATTACH;FMTTYPE=image/jpeg:https://delawareads.com/wp-content/uploads/2026/03/Cape-Henlopen-1.jpg
END:VEVENT
BEGIN:VEVENT
DTSTART;TZID=America/New_York:20260403T100000
DTEND;TZID=America/New_York:20260403T150000
DTSTAMP:20260422T140651
CREATED:20260311T143750Z
LAST-MODIFIED:20260311T150833Z
UID:10007785-1775210400-1775228400@delawareads.com
SUMMARY:Great Delaware Kite Festival at Cape Henlopen
DESCRIPTION:Come fly a kite and take part in fun\, family activities including an egg hunt and special 250th events. Food available. Park entrance fees in effect. For more information contact the Lewes Chamber of Commerce at (877) 465-3937. FREE with park entrance fees
URL:https://delawareads.com/event/great-delaware-kite-festival-at-cape-henlopen-2/
LOCATION:Cape Henlopen State Park\, 15099 Cape Henlopen Dr\, Lewes\, DE\, 19958\, United States
CATEGORIES:Camping,Community,Fishing,Hiking & Walking Trails,Park
ATTACH;FMTTYPE=image/jpeg:https://delawareads.com/wp-content/uploads/2026/03/Cape-Henlopen-1.jpg
END:VEVENT
BEGIN:VEVENT
DTSTART;TZID=America/New_York:20260403T110000
DTEND;TZID=America/New_York:20260403T120000
DTSTAMP:20260422T140651
CREATED:20260311T153548Z
LAST-MODIFIED:20260311T153548Z
UID:10007797-1775214000-1775217600@delawareads.com
SUMMARY:Discover Battery 519 at Cape Henlopen
DESCRIPTION:Tour the underground Battery 519 to discover how Fort Miles planned to defend the east coast from the anticipated threats of WWII. Tours meet at the Fort Miles Museum in Battery 519. Recommended for ages 7+. $6 per person. Online registration ends 24 hours prior to the program. After that\, please call 302-644-5007.
URL:https://delawareads.com/event/discover-battery-519-at-cape-henlopen-6/
LOCATION:Cape Henlopen State Park\, 15099 Cape Henlopen Dr\, Lewes\, DE\, 19958\, United States
CATEGORIES:Camping,Community,Fishing,Hiking & Walking Trails,Park
ATTACH;FMTTYPE=image/jpeg:https://delawareads.com/wp-content/uploads/2026/03/Cape-Henlopen-1.jpg
END:VEVENT
BEGIN:VEVENT
DTSTART;TZID=America/New_York:20260403T180000
DTEND;TZID=America/New_York:20260403T190000
DTSTAMP:20260422T140651
CREATED:20260311T160703Z
LAST-MODIFIED:20260311T160703Z
UID:10007818-1775239200-1775242800@delawareads.com
SUMMARY:Hike the Indian River Inlet Bridge at Delaware Seashore
DESCRIPTION:Enjoy a guided hike over the Indian River Inlet bridge. Learn about the dynamic forces that have shaped the inlet over the last 200 years. Find out about the bridges that have spanned the inlet and how the current bridge design came to be. Online program registration ends 24 hours prior to program. After that\, please call the park to reserve at 302-227-6991. $6 per person
URL:https://delawareads.com/event/hike-the-indian-river-inlet-bridge-at-delaware-seashore/
LOCATION:Delaware Seashore State Park\, 39415 Inlet Rd\, Rehoboth Beach\, DE\, 19971\, United States
CATEGORIES:Boating,Camping,Fishing,Hiking & Walking Trails,Park
ATTACH;FMTTYPE=image/jpeg:https://delawareads.com/wp-content/uploads/2026/03/Delaware-Seashore-State-Park.jpg
END:VEVENT
BEGIN:VEVENT
DTSTART;TZID=America/New_York:20260404T090000
DTEND;TZID=America/New_York:20260404T113000
DTSTAMP:20260422T140651
CREATED:20260311T132350Z
LAST-MODIFIED:20260311T145240Z
UID:10007771-1775293200-1775302200@delawareads.com
SUMMARY:Beach Driving Clinic at Delaware Seashore
DESCRIPTION:Learn park rules\, licensing requirements\, and tips from park staff to maximize your safety while driving on the beach. Then\, follow park staff out to the beach to practice driving on the sand. Participants must have a valid surf tag and the required equipment to do so. Online registration ends 24 hours prior to program. After that\, please call 302-227-6991. $20 per person
URL:https://delawareads.com/event/beach-driving-clinic-at-delaware-seashore-2/
LOCATION:Delaware Seashore State Park\, 39415 Inlet Rd\, Rehoboth Beach\, DE\, 19971\, United States
CATEGORIES:Boating,Camping,Fishing,Hiking & Walking Trails,Park
ATTACH;FMTTYPE=image/jpeg:https://delawareads.com/wp-content/uploads/2026/03/Delaware-Seashore-State-Park.jpg
END:VEVENT
BEGIN:VEVENT
DTSTART;TZID=America/New_York:20260404T100000
DTEND;TZID=America/New_York:20260404T110000
DTSTAMP:20260422T140651
CREATED:20260311T154553Z
LAST-MODIFIED:20260311T154553Z
UID:10007804-1775296800-1775300400@delawareads.com
SUMMARY:Cape 75 Nature Challenge: Spring Awakes at Cape Henlopen
DESCRIPTION:Celebrate 75 years of DE State Parks by collecting biological data at Cape using iNaturalist as we search for spring flora and fauna. Continue on your own using the app to try and find 75 or more species in the park each month as part of our Natural Heritage Survey.
URL:https://delawareads.com/event/cape-75-nature-challenge-spring-awakes-at-cape-henlopen/
LOCATION:Cape Henlopen State Park\, 15099 Cape Henlopen Dr\, Lewes\, DE\, 19958\, United States
CATEGORIES:Camping,Community,Fishing,Hiking & Walking Trails,Park
ATTACH;FMTTYPE=image/jpeg:https://delawareads.com/wp-content/uploads/2026/03/Cape-Henlopen-1.jpg
END:VEVENT
BEGIN:VEVENT
DTSTART;TZID=America/New_York:20260404T100000
DTEND;TZID=America/New_York:20260404T110000
DTSTAMP:20260422T140651
CREATED:20260311T160436Z
LAST-MODIFIED:20260311T160436Z
UID:10007816-1775296800-1775300400@delawareads.com
SUMMARY:Research from the Field Series at Lums Pond
DESCRIPTION:Join us at the nature center for an in-depth look at research being done in the parks with some of the experts! This week\, we will be meeting with the Raptor\, Grassland\, and Forest Bird Biologist with Delaware Fish and Wildlife to learn about the MOTUS tower that has been installed at the park. Pre-Registration required by calling 302-368-698. Free
URL:https://delawareads.com/event/research-from-the-field-series-at-lums-pond/
LOCATION:Lums Pond State Park\, 1065 Howell School Road\, Bear\, DE\, 19701\, United States
CATEGORIES:Camping,Community,Fishing,Hiking & Walking Trails,Park
ATTACH;FMTTYPE=image/png:https://delawareads.com/wp-content/uploads/2026/02/LumsPond.png
END:VEVENT
BEGIN:VEVENT
DTSTART;TZID=America/New_York:20260404T110000
DTEND;TZID=America/New_York:20260404T120000
DTSTAMP:20260422T140651
CREATED:20260311T131154Z
LAST-MODIFIED:20260311T143817Z
UID:10007760-1775300400-1775304000@delawareads.com
SUMMARY:Know it Owls at Killens Pond
DESCRIPTION:Think you know everything about owls?! Come test your knowledge and maybe learn something about owls and their many adaptations. Program meets at the nature center. Pre-registration required 24 hours in advance. Call 302-284-4299 or email DNREC_KPSPnaturecenter@delaware.gov to register. Program is free with paid park entry.
URL:https://delawareads.com/event/know-it-owls-at-killens-pond/
LOCATION:Killens Pond State Park\, 5025 Killens Pond Rd\, Felton\, DE\, 19952\, United States
CATEGORIES:Camping,Community,Fishing,Hiking & Walking Trails,Park
ATTACH;FMTTYPE=image/jpeg:https://delawareads.com/wp-content/uploads/2025/05/Killens.jpg
END:VEVENT
BEGIN:VEVENT
DTSTART;TZID=America/New_York:20260404T110000
DTEND;TZID=America/New_York:20260404T120000
DTSTAMP:20260422T140651
CREATED:20260311T151348Z
LAST-MODIFIED:20260311T151348Z
UID:10007789-1775300400-1775304000@delawareads.com
SUMMARY:Discover Battery 519 at Cape Henlopen
DESCRIPTION:Tour the underground Battery 519 to discover how Fort Miles planned to defend the east coast from the anticipated threats of WWII. Tours meet at the Fort Miles Museum in Battery 519. Recommended for ages 7+. $6 per person. Online registration ends 24 hours prior to the program. After that\, please call 302-644-5007.
URL:https://delawareads.com/event/discover-battery-519-at-cape-henlopen-3/
LOCATION:Cape Henlopen State Park\, 15099 Cape Henlopen Dr\, Lewes\, DE\, 19958\, United States
CATEGORIES:Camping,Community,Fishing,Hiking & Walking Trails,Park
ATTACH;FMTTYPE=image/jpeg:https://delawareads.com/wp-content/uploads/2026/03/Cape-Henlopen-1.jpg
END:VEVENT
BEGIN:VEVENT
DTSTART;TZID=America/New_York:20260404T140000
DTEND;TZID=America/New_York:20260404T150000
DTSTAMP:20260422T140651
CREATED:20260311T155549Z
LAST-MODIFIED:20260311T155549Z
UID:10007809-1775311200-1775314800@delawareads.com
SUMMARY:Monkey’s Fist Keychains at Delaware Seashore
DESCRIPTION:A monkey’s fist knot can help you throw a line\, defend yourself\, or tell someone you care about them. Uncover all the meanings being the monkey’s fist\, and make a keychain-sized version for yourself! Online registration ends 24 hours prior to program. After that\, please call 302-227-6991. Ages 10 and up. $10 per person.
URL:https://delawareads.com/event/monkeys-fist-keychains-at-delaware-seashore/
LOCATION:Delaware Seashore State Park\, 39415 Inlet Rd\, Rehoboth Beach\, DE\, 19971\, United States
CATEGORIES:Boating,Camping,Fishing,Hiking & Walking Trails,Park
ATTACH;FMTTYPE=image/jpeg:https://delawareads.com/wp-content/uploads/2026/03/Delaware-Seashore-State-Park.jpg
END:VEVENT
BEGIN:VEVENT
DTSTART;TZID=America/New_York:20260405T110000
DTEND;TZID=America/New_York:20260405T120000
DTSTAMP:20260422T140651
CREATED:20260311T162444Z
LAST-MODIFIED:20260311T162444Z
UID:10007833-1775386800-1775390400@delawareads.com
SUMMARY:Dip-Netting Discoveries at Lums Pond
DESCRIPTION:Do you want to know what lives in Lums Pond? Come grab a net and find out! Weather permitting. Pre-Registration required by calling 302-368-6989. Free\, with paid park entrance fee.
URL:https://delawareads.com/event/dip-netting-discoveries-at-lums-pond/
LOCATION:Lums Pond State Park\, 1065 Howell School Road\, Bear\, DE\, 19701\, United States
CATEGORIES:Camping,Community,Fishing,Hiking & Walking Trails,Park
ATTACH;FMTTYPE=image/png:https://delawareads.com/wp-content/uploads/2026/02/LumsPond.png
END:VEVENT
END:VCALENDAR