BEGIN:VCALENDAR
VERSION:2.0
PRODID:-// - ECPv6.15.20//NONSGML v1.0//EN
CALSCALE:GREGORIAN
METHOD:PUBLISH
X-ORIGINAL-URL:https://delawareads.com
X-WR-CALDESC:Events for 
REFRESH-INTERVAL;VALUE=DURATION:PT1H
X-Robots-Tag:noindex
X-PUBLISHED-TTL:PT1H
BEGIN:VTIMEZONE
TZID:America/New_York
BEGIN:DAYLIGHT
TZOFFSETFROM:-0500
TZOFFSETTO:-0400
TZNAME:EDT
DTSTART:20250309T070000
END:DAYLIGHT
BEGIN:STANDARD
TZOFFSETFROM:-0400
TZOFFSETTO:-0500
TZNAME:EST
DTSTART:20251102T060000
END:STANDARD
BEGIN:DAYLIGHT
TZOFFSETFROM:-0500
TZOFFSETTO:-0400
TZNAME:EDT
DTSTART:20260308T070000
END:DAYLIGHT
BEGIN:STANDARD
TZOFFSETFROM:-0400
TZOFFSETTO:-0500
TZNAME:EST
DTSTART:20261101T060000
END:STANDARD
BEGIN:DAYLIGHT
TZOFFSETFROM:-0500
TZOFFSETTO:-0400
TZNAME:EDT
DTSTART:20270314T070000
END:DAYLIGHT
BEGIN:STANDARD
TZOFFSETFROM:-0400
TZOFFSETTO:-0500
TZNAME:EST
DTSTART:20271107T060000
END:STANDARD
END:VTIMEZONE
BEGIN:VEVENT
DTSTART;TZID=America/New_York:20260507T090000
DTEND;TZID=America/New_York:20260507T113000
DTSTAMP:20260422T193213
CREATED:20260421T024632Z
LAST-MODIFIED:20260421T024632Z
UID:10007975-1778144400-1778153400@delawareads.com
SUMMARY:Beach Driving Clinic at Delaware Seashore
DESCRIPTION:Learn park rules\, licensing requirements\, and tips from park staff to maximize your safety while driving on the beach. Then\, follow park staff out to the beach to practice driving on the sand. Participants must have a valid surf tag and the required equipment to do so. Online registration ends 24 hours prior to program. After that\, please call 302-227-6991. $20 per person
URL:https://delawareads.com/event/beach-driving-clinic-at-delaware-seashore-9/
LOCATION:Delaware Seashore State Park\, 39415 Inlet Rd\, Rehoboth Beach\, DE\, 19971\, United States
CATEGORIES:Boating,Camping,Fishing,Hiking & Walking Trails,Park
ATTACH;FMTTYPE=image/jpeg:https://delawareads.com/wp-content/uploads/2026/03/Delaware-Seashore-State-Park.jpg
END:VEVENT
BEGIN:VEVENT
DTSTART;TZID=America/New_York:20260507T110000
DTEND;TZID=America/New_York:20260507T120000
DTSTAMP:20260422T193213
CREATED:20260421T015643Z
LAST-MODIFIED:20260421T015643Z
UID:10007934-1778151600-1778155200@delawareads.com
SUMMARY:Discover Battery 519 at Cape Henlopen
DESCRIPTION:Tour the underground Battery 519 to discover how Fort Miles planned to defend the east coast from the anticipated threats of WWII. Tours meet at the Fort Miles Museum in Battery 519. Recommended for ages 7+. $6 per person. Online registration ends 24 hours prior to the program. After that\, please call 302-644-5007.
URL:https://delawareads.com/event/discover-battery-519-at-cape-henlopen-19/
LOCATION:Cape Henlopen State Park\, 15099 Cape Henlopen Dr\, Lewes\, DE\, 19958\, United States
CATEGORIES:Camping,Community,Fishing,Hiking & Walking Trails,Park
ATTACH;FMTTYPE=image/jpeg:https://delawareads.com/wp-content/uploads/2026/03/Cape-Henlopen-1.jpg
END:VEVENT
BEGIN:VEVENT
DTSTART;TZID=America/New_York:20260508T093000
DTEND;TZID=America/New_York:20260508T110000
DTSTAMP:20260422T193213
CREATED:20260420T213546Z
LAST-MODIFIED:20260420T213546Z
UID:10007874-1778232600-1778238000@delawareads.com
SUMMARY:Hike Thompson Island at Delaware Seashore
DESCRIPTION:Go for a hike through Thompson Island Nature Preserve with a park interpreter. Learn about the island’s Native American presence and observe the abundant wildlife that calls this island home. Online registration ends 24 hours prior to program. After that\, please call 302-227-6991. $6 per person
URL:https://delawareads.com/event/hike-thompson-island-at-delaware-seashore/
LOCATION:Delaware Seashore State Park\, 39415 Inlet Rd\, Rehoboth Beach\, DE\, 19971\, United States
CATEGORIES:Boating,Camping,Fishing,Hiking & Walking Trails,Park
ATTACH;FMTTYPE=image/jpeg:https://delawareads.com/wp-content/uploads/2026/03/Delaware-Seashore-State-Park.jpg
END:VEVENT
BEGIN:VEVENT
DTSTART;TZID=America/New_York:20260509T110000
DTEND;TZID=America/New_York:20260509T160000
DTSTAMP:20260422T193213
CREATED:20260421T020752Z
LAST-MODIFIED:20260421T020752Z
UID:10007943-1778324400-1778342400@delawareads.com
SUMMARY:Killens Pond Festival at Killens Pond
DESCRIPTION:Join us for the First Annual Killens Pond Festival.
URL:https://delawareads.com/event/killens-pond-festival-at-killens-pond/
LOCATION:Killens Pond State Park\, 5025 Killens Pond Rd\, Felton\, DE\, 19952\, United States
CATEGORIES:Camping,Community,Fishing,Hiking & Walking Trails,Park
ATTACH;FMTTYPE=image/jpeg:https://delawareads.com/wp-content/uploads/2025/05/Killens.jpg
END:VEVENT
BEGIN:VEVENT
DTSTART;TZID=America/New_York:20260510T090000
DTEND;TZID=America/New_York:20260510T103000
DTSTAMP:20260422T193213
CREATED:20260421T025059Z
LAST-MODIFIED:20260421T025059Z
UID:10007979-1778403600-1778409000@delawareads.com
SUMMARY:Birding By Kayak at Lums Pond
DESCRIPTION:Join us for a special birding trip out on the water! This guided tour is for beginner birders and will look for year-round residents as well as returning migrants like the Osprey! Previous paddling experience is required. Open to participants 14 years and older (with a parent or guardian).
URL:https://delawareads.com/event/birding-by-kayak-at-lums-pond/
LOCATION:Lums Pond State Park\, 1065 Howell School Road\, Bear\, DE\, 19701\, United States
CATEGORIES:Camping,Community,Fishing,Hiking & Walking Trails,Park
ATTACH;FMTTYPE=image/png:https://delawareads.com/wp-content/uploads/2026/02/LumsPond.png
END:VEVENT
BEGIN:VEVENT
DTSTART;TZID=America/New_York:20260510T110000
DTEND;TZID=America/New_York:20260510T120000
DTSTAMP:20260422T193213
CREATED:20260420T225246Z
LAST-MODIFIED:20260420T225246Z
UID:10007898-1778410800-1778414400@delawareads.com
SUMMARY:Hike with a Naturalist at Killens Pond
DESCRIPTION:Join naturalists to hike the trails of Killens Pond State Park. This monthÂs hike will be about 1.8 miles and will meet at the Nature Center. Pre-registration required. Call 302-284-4299 or email DNREC_KPSPNatureCenter@delaware.gov for more information or to pre-register. Free with paid park entry.
URL:https://delawareads.com/event/hike-with-a-naturalist-at-killens-pond/
LOCATION:Killens Pond State Park\, 5025 Killens Pond Rd\, Felton\, DE\, 19952\, United States
CATEGORIES:Camping,Community,Fishing,Hiking & Walking Trails,Park
ATTACH;FMTTYPE=image/jpeg:https://delawareads.com/wp-content/uploads/2025/05/Killens.jpg
END:VEVENT
END:VCALENDAR