BEGIN:VCALENDAR
VERSION:2.0
PRODID:-// - ECPv6.15.20//NONSGML v1.0//EN
CALSCALE:GREGORIAN
METHOD:PUBLISH
X-ORIGINAL-URL:https://delawareads.com
X-WR-CALDESC:Events for 
REFRESH-INTERVAL;VALUE=DURATION:PT1H
X-Robots-Tag:noindex
X-PUBLISHED-TTL:PT1H
BEGIN:VTIMEZONE
TZID:America/New_York
BEGIN:DAYLIGHT
TZOFFSETFROM:-0500
TZOFFSETTO:-0400
TZNAME:EDT
DTSTART:20250309T070000
END:DAYLIGHT
BEGIN:STANDARD
TZOFFSETFROM:-0400
TZOFFSETTO:-0500
TZNAME:EST
DTSTART:20251102T060000
END:STANDARD
BEGIN:DAYLIGHT
TZOFFSETFROM:-0500
TZOFFSETTO:-0400
TZNAME:EDT
DTSTART:20260308T070000
END:DAYLIGHT
BEGIN:STANDARD
TZOFFSETFROM:-0400
TZOFFSETTO:-0500
TZNAME:EST
DTSTART:20261101T060000
END:STANDARD
BEGIN:DAYLIGHT
TZOFFSETFROM:-0500
TZOFFSETTO:-0400
TZNAME:EDT
DTSTART:20270314T070000
END:DAYLIGHT
BEGIN:STANDARD
TZOFFSETFROM:-0400
TZOFFSETTO:-0500
TZNAME:EST
DTSTART:20271107T060000
END:STANDARD
END:VTIMEZONE
BEGIN:VEVENT
DTSTART;TZID=America/New_York:20260322T100000
DTEND;TZID=America/New_York:20260322T140000
DTSTAMP:20260421T080045
CREATED:20260303T201354Z
LAST-MODIFIED:20260303T201943Z
UID:10007743-1774173600-1774188000@delawareads.com
SUMMARY:Building Drystack Walls
DESCRIPTION:Building Dry-Stack Walls (Section B) – Mt. Cuba Center (Hockessin\, DE)\nDate: Sunday\, March 22\, 2026\nTime: 10:00 AM – 2:00 PM\nLocation: Mt. Cuba Center\, 3120 Barley Mill Rd\, Hockessin\, Delaware \nLearn traditional stonework at Building Dry-Stack Walls (Section B)\, a hands-on workshop at Mt. Cuba Center that focuses on constructing dry-stack stone walls without mortar. This session builds on the foundational skills covered in Section A and deepens techniques for selecting and fitting stones for stability and design. Throughout the class\, participants work collaboratively with experienced instructors to craft a functional section of wall while learning about stone “batter\,” leveling\, and safe lifting practices.  \nThis workshop provides an in-person learning experience with opportunities to practice real-world stone-stacking techniques and will take place outdoors on the Mt. Cuba Center grounds\, weather permitting. \nWhat You’ll Learn: \n\nAdvanced dry-stacking techniques for stone wall building\nHow to choose and fit stones for structural integrity\nSlope alignment and drainage considerations for garden walls\n\nRegistration: Advance registration and ticket purchase are required through the Mt. Cuba Center event portal.  \nAbout the Venue: Mt. Cuba Center is a native plant-focused botanical garden and education center in Hockessin\, Delaware\, offering ecological workshops\, seasonal gardens\, and community classes year-round.
URL:https://delawareads.com/event/building-drystack-walls/
LOCATION:Mt. Cuba Center\, 3120 Barley Mill Road\, Hockessin\, DE\, 19707\, United States
CATEGORIES:Classes,Gardens
ATTACH;FMTTYPE=image/jpeg:https://delawareads.com/wp-content/uploads/2026/02/MtCuba.jpg
END:VEVENT
BEGIN:VEVENT
DTSTART;TZID=America/New_York:20260321T100000
DTEND;TZID=America/New_York:20260321T150000
DTSTAMP:20260421T080045
CREATED:20260303T201117Z
LAST-MODIFIED:20260303T202150Z
UID:10007742-1774087200-1774105200@delawareads.com
SUMMARY:Craft a Colorful Tote
DESCRIPTION:Craft a Colorful Tote – Mt. Cuba Center (Hockessin\, DE)\nDate: Saturday\, March 21\, 2026\nTime: 10:00 AM – 3:00 PM\nLocation: Mt. Cuba Center\, 3120 Barley Mill Rd\, Hockessin\, Delaware \nGet creative at Craft a Colorful Tote\, a hands-on workshop at Mt. Cuba Center where you make your own durable\, no-knit felted tote bag perfect for carrying a bottle of wine\, gardening tools\, or everyday essentials. Led by fiber artist Sara Setzer\, this session introduces the ancient craft of wet felting using merino wool and vibrant fiber accents\, walking you step by step from material selection to finished product. Please bring your lunch so you can stay fully engaged from start to finish. \nThis in-person class runs from 10:00 AM to 3:00 PM on March 21\, 2026\, with a rain date scheduled for Saturday\, March 28\, 2026 if needed. \nWhat You’ll Do: \n\nLearn the basics of wet felting and fiber layering\nCreate a one-of-a-kind tote bag with hands-on instruction\nExplore texture and color techniques with natural fibers\n\nRegistration Info: Tickets are required and available through the Mt. Cuba Center ticket portal. \nVenue Snapshot: Mt. Cuba Center is a celebrated botanical garden and education center focused on native plant conservation\, creative workshops\, and ecological learning in Hockessin\, Delaware.
URL:https://delawareads.com/event/craft-a-colorful-tote/
LOCATION:Mt. Cuba Center\, 3120 Barley Mill Road\, Hockessin\, DE\, 19707\, United States
CATEGORIES:Classes,Gardens
ATTACH;FMTTYPE=image/jpeg:https://delawareads.com/wp-content/uploads/2026/02/MtCuba.jpg
END:VEVENT
BEGIN:VEVENT
DTSTART;TZID=America/New_York:20260321T100000
DTEND;TZID=America/New_York:20260321T130000
DTSTAMP:20260421T080045
CREATED:20260303T200835Z
LAST-MODIFIED:20260303T202009Z
UID:10007741-1774087200-1774098000@delawareads.com
SUMMARY:Explore the Art of Bonsai Using Native Trees
DESCRIPTION:Explore the Art of Bonsai Using Native Trees – Mt. Cuba Center (Hockessin\, DE)\nDate: Saturday\, March 21\, 2026\nTime: 10:00 AM – 1:00 PM\nLocation: Mt. Cuba Center\, 3120 Barley Mill Rd\, Hockessin\, Delaware \nDiscover how to bring the ancient art of bonsai into the Delaware landscape at Explore the Art of Bonsai Using Native Trees — a hands-on workshop at Mt. Cuba Center led by experienced bonsai artist Brian Tuel. During this immersive session\, participants explore the history\, fundamental elements\, and stylistic approaches of bonsai\, all tailored to native tree species suited to the Mid-Atlantic region. You’ll learn how to select\, plant\, train\, and care for your young specimen tree\, and go home with your own bonsai ready for long-term growth. Attendees should bring sharp pruners or scissors and garden gloves to make the most of the experience. \nThis in-person class also offers a rain date of Saturday\, March 28\, 2026 if needed. \nWhat You’ll Experience: \n\nHistory and cultural roots of bonsai gardening\nTechniques for training and shaping native trees\nBest practices for long-term care in Delaware gardens\nTake-home bonsai starter plant and expert guidance\n\nRegistration: Tickets are required for this workshop and are available through the Mt. Cuba Center ticket portal. \nAbout the Venue: Mt. Cuba Center is a renowned botanical garden and education center focused on native plants and ecological gardening in Hockessin\, Delaware\, with gardens open to the public seasonally and classes offered year-round.
URL:https://delawareads.com/event/explore-the-art-of-bonsai-using-native-trees/
LOCATION:Mt. Cuba Center\, 3120 Barley Mill Road\, Hockessin\, DE\, 19707\, United States
CATEGORIES:Classes,Gardens
ATTACH;FMTTYPE=image/jpeg:https://delawareads.com/wp-content/uploads/2026/02/MtCuba.jpg
END:VEVENT
BEGIN:VEVENT
DTSTART;TZID=America/New_York:20260321T090000
DTEND;TZID=America/New_York:20260321T170000
DTSTAMP:20260421T080045
CREATED:20260303T202600Z
LAST-MODIFIED:20260303T202926Z
UID:10007744-1774083600-1774112400@delawareads.com
SUMMARY:Gardening for Watershed Conservation
DESCRIPTION:Gardening for Watershed Conservation – Mt. Cuba Center (Hockessin\, DE)\nDate: Saturday\, March 21\, 2026\nTime: 9:00 AM – 5:00 PM\nPrice: $199\nLocation: Mt. Cuba Center\, 3120 Barley Mill Rd\, Hockessin\, Delaware \nGrow your ecological skills at Gardening for Watershed Conservation\, a full-day workshop at Mt. Cuba Center designed to help gardeners protect local watersheds with sustainable landscape strategies. This session covers stormwater management\, soil health\, erosion prevention\, and water-wise planting techniques that work with Delaware’s natural water flows. Participants learn how to design gardens that capture and absorb rainfall\, support native wildlife\, and reduce runoff into streams and rivers. \nThis comprehensive class combines expert instruction with hands-on examples and practical design principles you can apply in your own garden or landscape projects. It’s ideal for home gardeners\, landscape professionals\, and anyone passionate about healthy ecosystems and water conservation. \nHighlights of the Workshop: \n\nUnderstanding watershed function and conservation basics\nTechniques for building rain gardens and improving soil infiltration\nSelecting native plants that enhance water absorption and wildlife habitat\n\nRegistration: Advance ticket purchase is required through the Mt. Cuba Center event page.  \nAbout Mt. Cuba Center: A nationally recognized botanical garden and education center in Hockessin\, Delaware\, Mt. Cuba Center advances plant conservation\, ecological gardening\, and nature-based learning experiences year-round.
URL:https://delawareads.com/event/gardening-for-watershed-conservation/
LOCATION:Mt. Cuba Center\, 3120 Barley Mill Road\, Hockessin\, DE\, 19707\, United States
CATEGORIES:Classes,Gardens
ATTACH;FMTTYPE=image/jpeg:https://delawareads.com/wp-content/uploads/2026/02/MtCuba.jpg
END:VEVENT
BEGIN:VEVENT
DTSTART;TZID=America/New_York:20260116T100000
DTEND;TZID=America/New_York:20260322T170000
DTSTAMP:20260421T080045
CREATED:20260215T034033Z
LAST-MODIFIED:20260303T195240Z
UID:10000004-1768557600-1774198800@delawareads.com
SUMMARY:Winter Wonderland at Longwood Gardens
DESCRIPTION:Winter Wonderland at Longwood Gardens – Kennett Square\, PA (Feb 13–Mar 8)\n\nOpen Wednesday–Monday. Closed Tuesdays except for special events. \n\nLongwood Gardens’ Winter Wonderland returns to the Brandywine Valley with one of the region’s most anticipated cold-season experiences. When temperatures drop\, the Conservatory and indoor glasshouses come alive with vibrant tropical plants\, colorful blooms\, and immersive floral installations that draw visitors from Delaware\, Chester County\, and beyond. \nBeginning February 13\, the Conservatory transforms into a living gallery filled with elaborate floral artistry—lush displays designed to brighten winter days and lift the spirit. Each installation blends color\, form\, and texture in ways that make this one of the most popular winter attractions near Wilmington and the broader Delaware Valley. \nAs evening falls\, the experience deepens. Garden Glow\, offered Friday through Sunday evenings from February 13 through March 8\, illuminates the Conservatory and Main Fountain Garden District with glowing horticultural creations. Bonsai\, tropical foliage\, and specialty plantings shimmer with ethereal light\, while outdoor pathways guide guests through luminaria-lit trails. \nVisitors will also encounter SPARK\, the internationally acclaimed installation by Dutch artist Daan Roosegaarde. Thousands of floating\, biodegradable light points drift through the night air\, creating a magical firefly-like atmosphere that makes this event a standout for winter photography and family outings. \nEvent Details \n\nDates: February 13 – March 8\nGarden Glow Evenings: Fridays–Sundays\nLocation: Longwood Gardens\, 1001 Longwood Rd\, Kennett Square\, PA\nBest For: Couples\, families\, photographers\, winter day-trippers\, Brandywine Valley visitors\nHighlights: Indoor floral artistry\, tropical displays\, illuminated bonsai\, luminaria trails\, SPARK installation\n\nBrandywine Valley winter events\, things to do near Wilmington in winter\, indoor garden attractions\, PA/DE seasonal events
URL:https://delawareads.com/event/winter-wonderland-at-longwood-gardens/
LOCATION:Longwood Gardens\, 1001 Longwood Rd\, Kennett Square\, PA\, 19348\, United States
CATEGORIES:Gardens,Nature
ATTACH;FMTTYPE=image/jpeg:https://delawareads.com/wp-content/uploads/2026/02/Longwood-001.jpg
END:VEVENT
END:VCALENDAR