BEGIN:VCALENDAR
VERSION:2.0
PRODID:-// - ECPv6.15.20//NONSGML v1.0//EN
CALSCALE:GREGORIAN
METHOD:PUBLISH
X-ORIGINAL-URL:https://delawareads.com
X-WR-CALDESC:Events for 
REFRESH-INTERVAL;VALUE=DURATION:PT1H
X-Robots-Tag:noindex
X-PUBLISHED-TTL:PT1H
BEGIN:VTIMEZONE
TZID:America/New_York
BEGIN:DAYLIGHT
TZOFFSETFROM:-0500
TZOFFSETTO:-0400
TZNAME:EDT
DTSTART:20250309T070000
END:DAYLIGHT
BEGIN:STANDARD
TZOFFSETFROM:-0400
TZOFFSETTO:-0500
TZNAME:EST
DTSTART:20251102T060000
END:STANDARD
BEGIN:DAYLIGHT
TZOFFSETFROM:-0500
TZOFFSETTO:-0400
TZNAME:EDT
DTSTART:20260308T070000
END:DAYLIGHT
BEGIN:STANDARD
TZOFFSETFROM:-0400
TZOFFSETTO:-0500
TZNAME:EST
DTSTART:20261101T060000
END:STANDARD
BEGIN:DAYLIGHT
TZOFFSETFROM:-0500
TZOFFSETTO:-0400
TZNAME:EDT
DTSTART:20270314T070000
END:DAYLIGHT
BEGIN:STANDARD
TZOFFSETFROM:-0400
TZOFFSETTO:-0500
TZNAME:EST
DTSTART:20271107T060000
END:STANDARD
BEGIN:DAYLIGHT
TZOFFSETFROM:-0500
TZOFFSETTO:-0400
TZNAME:EDT
DTSTART:20280312T070000
END:DAYLIGHT
BEGIN:STANDARD
TZOFFSETFROM:-0400
TZOFFSETTO:-0500
TZNAME:EST
DTSTART:20281105T060000
END:STANDARD
END:VTIMEZONE
BEGIN:VEVENT
DTSTART;TZID=America/New_York:20260327T100000
DTEND;TZID=America/New_York:20260503T180000
DTSTAMP:20260421T062732
CREATED:20260215T213004Z
LAST-MODIFIED:20260303T144742Z
UID:10000005-1774605600-1777831200@delawareads.com
SUMMARY:Spring Blooms At Longwood Gardens
DESCRIPTION:Get Ready for Spring at Longwood Gardens\n\nOpen Wednesday–Monday. Closed Tuesdays except for special events. \n\nSpring wasn’t just a change on the calendar—it felt different. The Gardens began to wake\, color returned in waves\, and every pathway seemed to carry the quiet promise of renewal. This season invites you to slow down\, look closer\, and let the world surprise you again. \nAs you explore\, you’ll find drifts of tulips glowing in the sun\, quiet corners perfect for reflection\, and wide-open vistas that feel like a breath of fresh air you didn’t know you needed. Spring at Longwood means fresh blooms\, fresh joy\, and endless possibilities waiting around every turn.Planning Your Spring Visit \nSpring is one of our most popular seasons. During Spring Blooms\, all Members require timed reservations daily from open to close.\nGardens Premium Members and Innovators may visit without reservations. \nTulip Tuesdays\nApril 21\, April 28\, May 5\n10:00 am–6:00 pm \nIf you’re looking for even more spring color\, join us for three special Tulip Tuesdays. Enjoy extended Tuesday hours\, peak tulip beauty\, and the kind of vibrant\, once-a-year scenery that makes spring at Longwood unforgettable. \nLet the season unfold around you—one bloom\, one breeze\, one perfect moment at a time.
URL:https://delawareads.com/event/spring-blooms-at-longwood-gardens/
LOCATION:Longwood Gardens\, 1001 Longwood Rd\, Kennett Square\, PA\, 19348\, United States
CATEGORIES:Gardens,Nature
ATTACH;FMTTYPE=image/jpeg:https://delawareads.com/wp-content/uploads/2026/02/Longwood-001.jpg
END:VEVENT
BEGIN:VEVENT
DTSTART;TZID=America/New_York:20260421T100000
DTEND;TZID=America/New_York:20260421T180000
DTSTAMP:20260421T062732
CREATED:20260215T213258Z
LAST-MODIFIED:20260216T003513Z
UID:10000073-1776765600-1776794400@delawareads.com
SUMMARY:Tulip Tuesday at Longwood Gardens
DESCRIPTION:Tulip Tuesdays\nApril 21\, April 28\, May 5\n10:00 am–6:00 pm \nIf you’re looking for even more spring color\, join us for three special Tulip Tuesdays. Enjoy extended Tuesday hours\, peak tulip beauty\, and the kind of vibrant\, once-a-year scenery that makes spring at Longwood unforgettable. \nGet Ready for Spring at Longwood Gardens\nSpring wasn’t just a change on the calendar—it felt different. The Gardens began to wake\, color returned in waves\, and every pathway seemed to carry the quiet promise of renewal. This season invites you to slow down\, look closer\, and let the world surprise you again. \nAs you explore\, you’ll find drifts of tulips glowing in the sun\, quiet corners perfect for reflection\, and wide-open vistas that feel like a breath of fresh air you didn’t know you needed. Spring at Longwood means fresh blooms\, fresh joy\, and endless possibilities waiting around every turn. \nSpring is one of our most popular seasons. During Spring Blooms\, all Members require timed reservations daily from open to close.\nGardens Premium Members and Innovators may visit without reservations.
URL:https://delawareads.com/event/tulip-tuesday-at-longwood-gardens/2026-04-21/
LOCATION:DE
CATEGORIES:Gardens,Nature
ATTACH;FMTTYPE=image/jpeg:https://delawareads.com/wp-content/uploads/2026/02/Longwood-001.jpg
END:VEVENT
BEGIN:VEVENT
DTSTART;TZID=America/New_York:20260507T100000
DTEND;TZID=America/New_York:20260509T190000
DTSTAMP:20260421T062732
CREATED:20260308T022136Z
LAST-MODIFIED:20260308T022136Z
UID:10007759-1778148000-1778353200@delawareads.com
SUMMARY:Wilmington Flower Market 2026
DESCRIPTION:Wilmington Flower Market 2026 – Wilmington\, Delaware\nDates: May 7 – May 9\, 2026\nLocation: Rockford Park\, Lookout Drive\, Wilmington\, Delaware\nHours: \n\nThursday\, May 7: 10:00 AM – 8:00 PM\nFriday\, May 8: 10:00 AM – 8:00 PM\nSaturday\, May 9: 10:00 AM – 7:00 PM\nAdmission: Free (parking available for a fee)\n\nA Spring Tradition in Wilmington\nThe Wilmington Flower Market returns to Rockford Park in 2026 for three days of spring festivities celebrating flowers\, community\, and charitable giving. Held annually during Mother’s Day weekend\, the event has become one of the most popular seasonal traditions in Wilmington and the surrounding Brandywine Valley. \nThe outdoor market brings together thousands of visitors to browse plant sales\, shop with local vendors\, enjoy entertainment\, and take part in a variety of family-friendly activities throughout the park. \nFlowers\, Vendors\, and Festival Fun\nAt the center of the event are the flower and plant sales\, where gardeners can purchase seasonal plants\, flowers\, and gardening items. Alongside the horticultural displays\, the market features a lively festival atmosphere with dozens of vendors and attractions. \nVisitors can expect: \n\nGarden plants\, flowers\, and landscaping items\nCraft and retail vendor tents\nLocal food vendors and specialty treats\nCarnival rides and games for children\nLive music and entertainment\nA beer garden for adults\n\nThese attractions combine to create a vibrant outdoor festival environment in one of Wilmington’s most scenic parks. \nSupporting Delaware’s Children\nThe Wilmington Flower Market is more than a community festival—it is also one of Delaware’s longest-running charitable events. Organized entirely by volunteers\, the nonprofit event raises funds to support organizations that benefit children across Delaware. \nFounded in 1921 by Mrs. A. Felix duPont\, the Flower Market began as a small fundraising effort to support children’s health programs. Over the decades\, it has grown into a major philanthropic tradition\, contributing millions of dollars to children’s charities throughout the state. \nA Classic Wilmington Festival\nToday\, the Wilmington Flower Market remains one of the most anticipated spring events in northern Delaware. With blooming plants\, carnival rides\, live entertainment\, and community spirit\, the three-day celebration offers a welcoming atmosphere for families\, gardeners\, and festival-goers alike. \nVisitors often bring blankets or lawn chairs to enjoy the entertainment and relax in Rockford Park while exploring vendor booths and sampling local food throughout the event grounds.
URL:https://delawareads.com/event/wilmington-flower-market-2026/
LOCATION:Rockford Park\, Lookout Drive\, Wilmington\, DE\, 19806\, United States
CATEGORIES:Family Fun,Food,Free,Gardens,Music
ATTACH;FMTTYPE=image/webp:https://delawareads.com/wp-content/uploads/2026/03/Wilmington-Flower-Market.webp
END:VEVENT
BEGIN:VEVENT
DTSTART;TZID=America/New_York:20260508T100000
DTEND;TZID=America/New_York:20260927T220000
DTSTAMP:20260421T062732
CREATED:20260215T214508Z
LAST-MODIFIED:20260303T195016Z
UID:10000076-1778234400-1790546400@delawareads.com
SUMMARY:Festival of Fountains at Longwood Gardens
DESCRIPTION:Festival of Fountains\nIlluminated Fountain Performances\n\n \n\n\nOpen Wednesday–Monday. Closed Tuesdays except for special events. \n\n“Our Illuminated Fountain Performances offer a spectacle unlike any other” isn’t marketing fluff. It’s a pretty accurate description of what happens when water\, fire\, music\, and light all agree to show off at the same time. \n\n\n\n\nMay 8–August 20\, 2026\nGardens Open\n10:00 am–6:00 pm Monday\, Wednesday\, Thursday \n10:00 am–10:00 pm Friday\, Saturday\, Sunday \nClosed Tuesdays \n\n\nAugust 21–September 27\, 2026\nGardens Open\n10:00 am–6:00 pm Monday\, Wednesday\, Thursday \n10:00 am–9:00 pm Friday\, Saturday\, Sunday \nClosed Tuesdays \n\n\n\n\nA Little History Behind the Splash\nLongwood Gardens traces its roots to 1906\, when industrialist Pierre S. du Pont purchased the farm in Kennett Square\, Pennsylvania\, to preserve a historic collection of trees. Du Pont wasn’t content with a quiet botanical garden. He wanted drama. He wanted scale. He wanted fountains that could rival European estates. \nThe original fountains debuted in 1931\, inspired by du Pont’s travels to Italy and France. Think Versailles\, but with American engineering muscle. The Main Fountain Garden became the crown jewel—spanning five acres and featuring hundreds of jets choreographed to music. \nFast forward to 2017\, and the Main Fountain Garden underwent a $90+ million revitalization. The result: \n\n1\,719 fountain jets\nWater columns reaching up to 175 feet\nAdvanced LED lighting systems\nFire effects that turn the night sky into a stage\n\nThis wasn’t just a renovation. It was a glow-up worthy of the Gilded Age. \nWhat Makes the Illuminated Performances So Unique?\nDuring the Festival of Fountains (typically May through September)\, daytime shows are impressive. But when the sun sets\, the real magic begins. \nThe Illuminated Fountain Performances combine: \n\n🎵 Choreographed music ranging from classical to contemporary\n💡 Precision lighting that shifts in color and intensity\n💦 High-powered water jets moving in sync\n🔥 Fire bursts integrated into select shows\n\nEach performance feels theatrical. The fountains don’t just spray water—they “dance.” And yes\, the water hits its mark with timing that would make a Broadway director proud. \nEuropean Inspiration\, American Scale\nDu Pont’s inspiration came from places like the fountains of Italy’s Villa d’Este and France’s Palace of Versailles. The difference? Longwood’s system was engineered using 20th-century innovations\, enabling greater height\, pressure\, and precision. \nThe modern restoration introduced: \n\nAdvanced computer-controlled choreography\nUnderground infrastructure upgrades\nExpanded viewing terraces\nADA-accessible improvements\n\nIt’s old-world elegance powered by modern tech. \nThe Festival of Fountains Tradition\nThe Festival of Fountains began as a seasonal highlight and evolved into one of the region’s most anticipated summer attractions. Families plan trips around it. Photographers stalk the golden hour. Couples claim benches early. \nMany evenings conclude with fireworks—because if you’re going to do fountains\, you might as well go all in. \nPlanning Your Visit\n\n📍 Location: Kennett Square\, Pennsylvania\n📅 Season: Late spring through early fall\n🌙 Illuminated Performances: Select evenings\n🎟️ Timed tickets required\n\nLongwood’s fountain system circulates over 10\,000 gallons of water per minute during peak shows. That’s not just a splash—it’s hydraulic choreography. \nPierre du Pont reportedly tested early fountain systems himself\, sometimes getting soaked in the process. Industrialist by day\, accidental water feature by night. \nIf you’re building out a “Things to Do” list\, Longwood’s Illuminated Fountain Performances aren’t just an entry—they’re a headline act. Water\, fire\, music\, and a century of history working together in perfect rhythm.
URL:https://delawareads.com/event/festival-of-fountains-at-longwood-gardens/
LOCATION:Longwood Gardens\, 1001 Longwood Rd\, Kennett Square\, PA\, 19348\, United States
CATEGORIES:Gardens,Nature
ATTACH;FMTTYPE=image/jpeg:https://delawareads.com/wp-content/uploads/2026/02/Longwood-001.jpg
END:VEVENT
BEGIN:VEVENT
DTSTART;TZID=America/New_York:20261002T100000
DTEND;TZID=America/New_York:20261025T210000
DTSTAMP:20260421T062732
CREATED:20260215T220326Z
LAST-MODIFIED:20260303T194845Z
UID:10004037-1790935200-1792962000@delawareads.com
SUMMARY:Fall at Longwood & Chrysanthemum Festival 2026
DESCRIPTION:Fall at Longwood & Chrysanthemum Festival 2026\n\n \n\n\nOpen Wednesday–Monday. Closed Tuesdays except for special events. \n\nThis fall\, nature picks up her brush and transforms Longwood Gardens into a living canvas of amber\, crimson\, and gold. Towering trees ignite in color\, ornamental grasses shimmer in the breeze\, and late-season blooms hold their own against the crisp blue sky. It’s the season when artistry and agriculture meet—when master gardeners\, designers\, and scientists showcase what careful planning and bold imagination can achieve. \nWander the Flower Garden Walk\, where autumn perennials and textured foliage create layered ribbons of color. Explore the Hillside Garden\, a quieter\, contemplative space where horticultural rarities and thoughtful plant pairings reveal subtle beauty. In the expansive Meadow Garden\, sweeping fields of goldenrod\, asters\, and native grasses glow in the afternoon light\, creating one of the most photogenic landscapes in the region. \nThe Ornamental Kitchen Garden offers another kind of bounty. Here\, edible crops mix with decorative plantings\, proving that productivity can be beautiful. Heirloom vegetables\, vibrant peppers\, and richly colored greens demonstrate that form and function aren’t rivals—they’re partners. \nChrysanthemum Festival 2026\nBeginning October 16\, 2026\, Longwood’s artists and scientists stretch horticultural limits during the celebrated Chrysanthemum Festival. This isn’t a simple flower show. It’s a feat of botanical engineering. \nExpect: \n\nCascading chrysanthemum towers\nIntricate trained forms\nSculptural displays cultivated over many months\nRare varieties grown exclusively for the exhibition\n\nLongwood has cultivated chrysanthemums for nearly a century\, building a reputation for precision growing techniques and dramatic presentation. Each plant is trained\, pruned\, and shaped to create architectural forms that seem almost impossible—proof that patience is powerful. \nTiny trivia: Some chrysanthemum specimens are trained for nearly a full year before they bloom on cue. Talk about sticking to a growth plan. \nOctober 2–25\, 2026\nGardens Open \n10:00 am–6:00 pm\nMonday\, Wednesday\, Thursday \n10:00 am–9:00 pm\nFriday\, Saturday\, Sunday \nOctober 26–November 15\, 2026\nGardens Open \n10:00 am–5:00 pm\nWednesday–Monday \nAutumn at Longwood blends sweeping landscapes with fine detail. From golden meadows to meticulously trained chrysanthemums\, the season offers both grand vistas and intimate discoveries. If summer dazzles with fountains\, fall answers with fire—this time in the leaves.
URL:https://delawareads.com/event/fall-at-longwood-chrysanthemum-festival-2026/
LOCATION:Longwood Gardens\, 1001 Longwood Rd\, Kennett Square\, PA\, 19348\, United States
CATEGORIES:Gardens,Nature
ATTACH;FMTTYPE=image/jpeg:https://delawareads.com/wp-content/uploads/2026/02/Longwood-001.jpg
END:VEVENT
BEGIN:VEVENT
DTSTART;TZID=America/New_York:20261005T100000
DTEND;TZID=America/New_York:20261028T180000
DTSTAMP:20260421T062732
CREATED:20260215T220052Z
LAST-MODIFIED:20260303T194628Z
UID:10003343-1791194400-1793210400@delawareads.com
SUMMARY:Fall at Longwood Gardens – Extended Hours (October 2–25\, 2026)
DESCRIPTION:Fall at Longwood & Chrysanthemum Festival 2026\n\n \n\n\nOpen Wednesday–Monday. Closed Tuesdays except for special events. \n\nThis fall\, nature picks up her brush and transforms Longwood Gardens into a living canvas of amber\, crimson\, and gold. Towering trees ignite in color\, ornamental grasses shimmer in the breeze\, and late-season blooms hold their own against the crisp blue sky. It’s the season when artistry and agriculture meet—when master gardeners\, designers\, and scientists showcase what careful planning and bold imagination can achieve. \nWander the Flower Garden Walk\, where autumn perennials and textured foliage create layered ribbons of color. Explore the Hillside Garden\, a quieter\, contemplative space where horticultural rarities and thoughtful plant pairings reveal subtle beauty. In the expansive Meadow Garden\, sweeping fields of goldenrod\, asters\, and native grasses glow in the afternoon light\, creating one of the most photogenic landscapes in the region. \nThe Ornamental Kitchen Garden offers another kind of bounty. Here\, edible crops mix with decorative plantings\, proving that productivity can be beautiful. Heirloom vegetables\, vibrant peppers\, and richly colored greens demonstrate that form and function aren’t rivals—they’re partners. \nChrysanthemum Festival 2026\nBeginning October 16\, 2026\, Longwood’s artists and scientists stretch horticultural limits during the celebrated Chrysanthemum Festival. This isn’t a simple flower show. It’s a feat of botanical engineering. \nExpect: \n\n\nCascading chrysanthemum towers \n\n\nIntricate trained forms \n\n\nSculptural displays cultivated over many months \n\n\nRare varieties grown exclusively for the exhibition \n\n\nLongwood has cultivated chrysanthemums for nearly a century\, building a reputation for precision growing techniques and dramatic presentation. Each plant is trained\, pruned\, and shaped to create architectural forms that seem almost impossible—proof that patience is powerful. \nTiny trivia: Some chrysanthemum specimens are trained for nearly a full year before they bloom on cue. Talk about sticking to a growth plan. \nOctober 2–25\, 2026\nGardens Open \n10:00 am–6:00 pm\nMonday\, Wednesday\, Thursday \n10:00 am–9:00 pm\nFriday\, Saturday\, Sunday \nClosed Tuesdays \nOctober 26–November 15\, 2026\nGardens Open \n10:00 am–5:00 pm\nWednesday–Monday \nAutumn at Longwood blends sweeping landscapes with fine detail. From golden meadows to meticulously trained chrysanthemums\, the season offers both grand vistas and intimate discoveries. If summer dazzles with fountains\, fall answers with fire—this time in the leaves.
URL:https://delawareads.com/event/fall-at-longwood-gardens-extended-hours-october-2-25-2026/
LOCATION:Longwood Gardens\, 1001 Longwood Rd\, Kennett Square\, PA\, 19348\, United States
CATEGORIES:Gardens,Nature
ATTACH;FMTTYPE=image/jpeg:https://delawareads.com/wp-content/uploads/2026/02/Longwood-001.jpg
END:VEVENT
BEGIN:VEVENT
DTSTART;TZID=America/New_York:20261026T100000
DTEND;TZID=America/New_York:20261115T170000
DTSTAMP:20260421T062732
CREATED:20260215T220536Z
LAST-MODIFIED:20260303T194542Z
UID:10004733-1793008800-1794762000@delawareads.com
SUMMARY:Early November At Longwood Gardens
DESCRIPTION:Fall at Longwood & Chrysanthemum Festival 2026\n\n \n\n\nOpen Wednesday–Monday. Closed Tuesdays except for special events. \n\nThis fall\, nature picks up her brush and transforms Longwood Gardens into a living canvas of amber\, crimson\, and gold. Towering trees ignite in color\, ornamental grasses shimmer in the breeze\, and late-season blooms hold their own against the crisp blue sky. It’s the season when artistry and agriculture meet—when master gardeners\, designers\, and scientists showcase what careful planning and bold imagination can achieve. \nWander the Flower Garden Walk\, where autumn perennials and textured foliage create layered ribbons of color. Explore the Hillside Garden\, a quieter\, contemplative space where horticultural rarities and thoughtful plant pairings reveal subtle beauty. In the expansive Meadow Garden\, sweeping fields of goldenrod\, asters\, and native grasses glow in the afternoon light\, creating one of the most photogenic landscapes in the region. \nThe Ornamental Kitchen Garden offers another kind of bounty. Here\, edible crops mix with decorative plantings\, proving that productivity can be beautiful. Heirloom vegetables\, vibrant peppers\, and richly colored greens demonstrate that form and function aren’t rivals—they’re partners. \nChrysanthemum Festival 2026\nBeginning October 16\, 2026\, Longwood’s artists and scientists stretch horticultural limits during the celebrated Chrysanthemum Festival. This isn’t a simple flower show. It’s a feat of botanical engineering. \nExpect: \n\nCascading chrysanthemum towers\nIntricate trained forms\nSculptural displays cultivated over many months\nRare varieties grown exclusively for the exhibition\n\nLongwood has cultivated chrysanthemums for nearly a century\, building a reputation for precision growing techniques and dramatic presentation. Each plant is trained\, pruned\, and shaped to create architectural forms that seem almost impossible—proof that patience is powerful. \nTiny trivia: Some chrysanthemum specimens are trained for nearly a full year before they bloom on cue. Talk about sticking to a growth plan. \nOctober 2–25\, 2026\nGardens Open \n10:00 am–6:00 pm\nMonday\, Wednesday\, Thursday \n10:00 am–9:00 pm\nFriday\, Saturday\, Sunday \nOctober 26–November 15\, 2026\nGardens Open \n10:00 am–5:00 pm\nWednesday–Monday \nAutumn at Longwood blends sweeping landscapes with fine detail. From golden meadows to meticulously trained chrysanthemums\, the season offers both grand vistas and intimate discoveries. If summer dazzles with fountains\, fall answers with fire—this time in the leaves.
URL:https://delawareads.com/event/early-november-at-longwood-gardens/
LOCATION:Longwood Gardens\, 1001 Longwood Rd\, Kennett Square\, PA\, 19348\, United States
CATEGORIES:Gardens,Nature
ATTACH;FMTTYPE=image/jpeg:https://delawareads.com/wp-content/uploads/2026/02/Longwood-001.jpg
END:VEVENT
BEGIN:VEVENT
DTSTART;TZID=America/New_York:20261120T100000
DTEND;TZID=America/New_York:20270110T230000
DTSTAMP:20260421T062732
CREATED:20260215T220747Z
LAST-MODIFIED:20260303T144033Z
UID:10006099-1795168800-1799622000@delawareads.com
SUMMARY:A Longwood Christmas November 20\, 2026–January 10\, 2027
DESCRIPTION:A Longwood Christmas\nWhen the holidays arrive at Longwood Gardens\, they don’t tiptoe in—they glow. A Longwood Christmas transforms the historic gardens into a radiant winter wonderland filled with towering trees\, glittering pathways\, fragrant evergreens\, and one of the most celebrated seasonal displays in the country. \nFrom the moment guests enter\, light becomes the storyteller. Thousands upon thousands of twinkling bulbs outline grand trees\, trace historic architecture\, and reflect across still waters. The Conservatory becomes a warm sanctuary of poinsettias\, orchids\, garlands\, and beautifully decorated trees that rise toward the glass ceiling like living chandeliers. \n\n(No Tuesday closures during this seasonal celebration!!) \n\nA Tradition Rooted in History\nThe holiday celebration traces back to founder Pierre S. du Pont\, who decorated the Conservatory for Christmas gatherings in the early 20th century. What began as elegant seasonal décor evolved into a signature experience drawing visitors from across the region and beyond. \nOver time\, the display expanded to include: \n\nOrnate indoor trees and themed rooms\nOutdoor light installations spanning acres\nIlluminated fountains choreographed to festive music\nFire pits and cozy gathering spaces\n\nIt’s classic holiday charm—with scale. \nTiny trivia: Longwood has been growing many of its holiday display plants on-site for decades\, meaning some of the “stars” of the show start their journey months before they ever sparkle. \nWhat to Expect in 2026\nA Longwood Christmas blends indoor elegance with outdoor spectacle. \nInside the Conservatory: \n\nGrand trees adorned with thousands of ornaments\nSeasonal floral displays designed with precision\nWarm\, fragrant air filled with evergreen and citrus notes\n\nOutside: \n\nHundreds of decorated trees\nLight tunnels and glowing pathways\nReflections across the Main Fountain Garden\nSelect evenings featuring festive illuminated fountain performances\n\nThe contrast of crisp night air and radiant lights makes evening visits especially magical. It’s the kind of place where cameras work overtime\, and people linger just a little longer than planned. \nDates & Hours\nNovember 20\, 2026 – January 10\, 2027 \nGardens Open\n10:00 am – 11:00 pm daily \n\n(No Tuesday closures during this seasonal celebration!!) \n\nA Longwood Christmas isn’t simply a light display. It’s a layered experience of horticulture\, design\, architecture\, and tradition working together in harmony. The gardens become immersive rather than observational—guests don’t just look at the decorations\, they move through them. \nExpect high demand\, especially on weekends and evenings. Timed admission tickets are required\, and this event regularly sells out. \nIf autumn at Longwood is about warm colors and harvest glow\, winter answers with brilliance. The gardens trade falling leaves for shimmering light—and somehow\, the quiet of winter feels brighter than ever.
URL:https://delawareads.com/event/a-longwood-christmas-november-20-2026-january-10-2027/
LOCATION:Longwood Gardens\, 1001 Longwood Rd\, Kennett Square\, PA\, 19348\, United States
CATEGORIES:Christmas,Gardens,Nature
ATTACH;FMTTYPE=image/jpeg:https://delawareads.com/wp-content/uploads/2026/02/Longwood-001.jpg
END:VEVENT
END:VCALENDAR