BEGIN:VCALENDAR
VERSION:2.0
PRODID:-// - ECPv6.15.20//NONSGML v1.0//EN
CALSCALE:GREGORIAN
METHOD:PUBLISH
X-ORIGINAL-URL:https://delawareads.com
X-WR-CALDESC:Events for 
REFRESH-INTERVAL;VALUE=DURATION:PT1H
X-Robots-Tag:noindex
X-PUBLISHED-TTL:PT1H
BEGIN:VTIMEZONE
TZID:America/New_York
BEGIN:DAYLIGHT
TZOFFSETFROM:-0500
TZOFFSETTO:-0400
TZNAME:EDT
DTSTART:20250309T070000
END:DAYLIGHT
BEGIN:STANDARD
TZOFFSETFROM:-0400
TZOFFSETTO:-0500
TZNAME:EST
DTSTART:20251102T060000
END:STANDARD
BEGIN:DAYLIGHT
TZOFFSETFROM:-0500
TZOFFSETTO:-0400
TZNAME:EDT
DTSTART:20260308T070000
END:DAYLIGHT
BEGIN:STANDARD
TZOFFSETFROM:-0400
TZOFFSETTO:-0500
TZNAME:EST
DTSTART:20261101T060000
END:STANDARD
BEGIN:DAYLIGHT
TZOFFSETFROM:-0500
TZOFFSETTO:-0400
TZNAME:EDT
DTSTART:20270314T070000
END:DAYLIGHT
BEGIN:STANDARD
TZOFFSETFROM:-0400
TZOFFSETTO:-0500
TZNAME:EST
DTSTART:20271107T060000
END:STANDARD
END:VTIMEZONE
BEGIN:VEVENT
DTSTART;TZID=America/New_York:20260116T100000
DTEND;TZID=America/New_York:20260322T170000
DTSTAMP:20260421T094439
CREATED:20260215T034033Z
LAST-MODIFIED:20260303T195240Z
UID:10000004-1768557600-1774198800@delawareads.com
SUMMARY:Winter Wonderland at Longwood Gardens
DESCRIPTION:Winter Wonderland at Longwood Gardens – Kennett Square\, PA (Feb 13–Mar 8)\n\nOpen Wednesday–Monday. Closed Tuesdays except for special events. \n\nLongwood Gardens’ Winter Wonderland returns to the Brandywine Valley with one of the region’s most anticipated cold-season experiences. When temperatures drop\, the Conservatory and indoor glasshouses come alive with vibrant tropical plants\, colorful blooms\, and immersive floral installations that draw visitors from Delaware\, Chester County\, and beyond. \nBeginning February 13\, the Conservatory transforms into a living gallery filled with elaborate floral artistry—lush displays designed to brighten winter days and lift the spirit. Each installation blends color\, form\, and texture in ways that make this one of the most popular winter attractions near Wilmington and the broader Delaware Valley. \nAs evening falls\, the experience deepens. Garden Glow\, offered Friday through Sunday evenings from February 13 through March 8\, illuminates the Conservatory and Main Fountain Garden District with glowing horticultural creations. Bonsai\, tropical foliage\, and specialty plantings shimmer with ethereal light\, while outdoor pathways guide guests through luminaria-lit trails. \nVisitors will also encounter SPARK\, the internationally acclaimed installation by Dutch artist Daan Roosegaarde. Thousands of floating\, biodegradable light points drift through the night air\, creating a magical firefly-like atmosphere that makes this event a standout for winter photography and family outings. \nEvent Details \n\nDates: February 13 – March 8\nGarden Glow Evenings: Fridays–Sundays\nLocation: Longwood Gardens\, 1001 Longwood Rd\, Kennett Square\, PA\nBest For: Couples\, families\, photographers\, winter day-trippers\, Brandywine Valley visitors\nHighlights: Indoor floral artistry\, tropical displays\, illuminated bonsai\, luminaria trails\, SPARK installation\n\nBrandywine Valley winter events\, things to do near Wilmington in winter\, indoor garden attractions\, PA/DE seasonal events
URL:https://delawareads.com/event/winter-wonderland-at-longwood-gardens/
LOCATION:Longwood Gardens\, 1001 Longwood Rd\, Kennett Square\, PA\, 19348\, United States
CATEGORIES:Gardens,Nature
ATTACH;FMTTYPE=image/jpeg:https://delawareads.com/wp-content/uploads/2026/02/Longwood-001.jpg
END:VEVENT
BEGIN:VEVENT
DTSTART;TZID=America/New_York:20260327T100000
DTEND;TZID=America/New_York:20260503T180000
DTSTAMP:20260421T094439
CREATED:20260215T213004Z
LAST-MODIFIED:20260303T144742Z
UID:10000005-1774605600-1777831200@delawareads.com
SUMMARY:Spring Blooms At Longwood Gardens
DESCRIPTION:Get Ready for Spring at Longwood Gardens\n\nOpen Wednesday–Monday. Closed Tuesdays except for special events. \n\nSpring wasn’t just a change on the calendar—it felt different. The Gardens began to wake\, color returned in waves\, and every pathway seemed to carry the quiet promise of renewal. This season invites you to slow down\, look closer\, and let the world surprise you again. \nAs you explore\, you’ll find drifts of tulips glowing in the sun\, quiet corners perfect for reflection\, and wide-open vistas that feel like a breath of fresh air you didn’t know you needed. Spring at Longwood means fresh blooms\, fresh joy\, and endless possibilities waiting around every turn.Planning Your Spring Visit \nSpring is one of our most popular seasons. During Spring Blooms\, all Members require timed reservations daily from open to close.\nGardens Premium Members and Innovators may visit without reservations. \nTulip Tuesdays\nApril 21\, April 28\, May 5\n10:00 am–6:00 pm \nIf you’re looking for even more spring color\, join us for three special Tulip Tuesdays. Enjoy extended Tuesday hours\, peak tulip beauty\, and the kind of vibrant\, once-a-year scenery that makes spring at Longwood unforgettable. \nLet the season unfold around you—one bloom\, one breeze\, one perfect moment at a time.
URL:https://delawareads.com/event/spring-blooms-at-longwood-gardens/
LOCATION:Longwood Gardens\, 1001 Longwood Rd\, Kennett Square\, PA\, 19348\, United States
CATEGORIES:Gardens,Nature
ATTACH;FMTTYPE=image/jpeg:https://delawareads.com/wp-content/uploads/2026/02/Longwood-001.jpg
END:VEVENT
END:VCALENDAR